BEGIN:VCALENDAR
VERSION:2.0
PRODID:-//Vilnius literatūros miestas - ECPv6.15.13//NONSGML v1.0//EN
CALSCALE:GREGORIAN
METHOD:PUBLISH
X-WR-CALNAME:Vilnius literatūros miestas
X-ORIGINAL-URL:https://www.vilniusliterature.lt
X-WR-CALDESC:Vilnius literatūros miestas renginiai
REFRESH-INTERVAL;VALUE=DURATION:PT1H
X-Robots-Tag:noindex
X-PUBLISHED-TTL:PT1H
BEGIN:VTIMEZONE
TZID:Europe/Vilnius
BEGIN:DAYLIGHT
TZOFFSETFROM:+0200
TZOFFSETTO:+0300
TZNAME:EEST
DTSTART:20240331T010000
END:DAYLIGHT
BEGIN:STANDARD
TZOFFSETFROM:+0300
TZOFFSETTO:+0200
TZNAME:EET
DTSTART:20241027T010000
END:STANDARD
BEGIN:DAYLIGHT
TZOFFSETFROM:+0200
TZOFFSETTO:+0300
TZNAME:EEST
DTSTART:20250330T010000
END:DAYLIGHT
BEGIN:STANDARD
TZOFFSETFROM:+0300
TZOFFSETTO:+0200
TZNAME:EET
DTSTART:20251026T010000
END:STANDARD
BEGIN:DAYLIGHT
TZOFFSETFROM:+0200
TZOFFSETTO:+0300
TZNAME:EEST
DTSTART:20260329T010000
END:DAYLIGHT
BEGIN:STANDARD
TZOFFSETFROM:+0300
TZOFFSETTO:+0200
TZNAME:EET
DTSTART:20261025T010000
END:STANDARD
END:VTIMEZONE
BEGIN:VEVENT
DTSTART;TZID=Europe/Vilnius:20250611T163000
DTEND;TZID=Europe/Vilnius:20250611T173000
DTSTAMP:20260423T005547
CREATED:20250522T065713Z
LAST-MODIFIED:20250605T080727Z
UID:5919-1749659400-1749663000@www.vilniusliterature.lt
SUMMARY:Ekskursija apie prof. Vincą Mykolaitį-Putiną
DESCRIPTION:
URL:https://www.vilniusliterature.lt/renginys/ekskursija-apie-prof-vinca-mykolaiti-putina-7/
END:VEVENT
BEGIN:VEVENT
DTSTART;TZID=Europe/Vilnius:20250611T143000
DTEND;TZID=Europe/Vilnius:20250611T153000
DTSTAMP:20260423T005547
CREATED:20250522T055219Z
LAST-MODIFIED:20250605T080803Z
UID:5900-1749652200-1749655800@www.vilniusliterature.lt
SUMMARY:Ekskursija apie prof. Vincą Krėvę-Mickevičių
DESCRIPTION:
URL:https://www.vilniusliterature.lt/renginys/ekskursija-apie-prof-vinca-kreve-mickeviciu-14/
END:VEVENT
BEGIN:VEVENT
DTSTART;TZID=Europe/Vilnius:20250610T143000
DTEND;TZID=Europe/Vilnius:20250610T153000
DTSTAMP:20260423T005547
CREATED:20250522T064740Z
LAST-MODIFIED:20250605T080739Z
UID:5917-1749565800-1749569400@www.vilniusliterature.lt
SUMMARY:Ekskursija apie prof. Vincą Mykolaitį-Putiną
DESCRIPTION:
URL:https://www.vilniusliterature.lt/renginys/ekskursija-apie-prof-vinca-mykolaiti-putina-6/
END:VEVENT
BEGIN:VEVENT
DTSTART;TZID=Europe/Vilnius:20250607T140000
DTEND;TZID=Europe/Vilnius:20250607T150000
DTSTAMP:20260423T005547
CREATED:20250522T055002Z
LAST-MODIFIED:20250605T080810Z
UID:5898-1749304800-1749308400@www.vilniusliterature.lt
SUMMARY:Ekskursija apie prof. Vincą Krėvę-Mickevičių
DESCRIPTION:
URL:https://www.vilniusliterature.lt/renginys/ekskursija-apie-prof-vinca-kreve-mickeviciu-13/
END:VEVENT
BEGIN:VEVENT
DTSTART;TZID=Europe/Vilnius:20250607T120000
DTEND;TZID=Europe/Vilnius:20250607T130000
DTSTAMP:20260423T005547
CREATED:20250522T064623Z
LAST-MODIFIED:20250605T080818Z
UID:5915-1749297600-1749301200@www.vilniusliterature.lt
SUMMARY:Ekskursija apie prof. Vincą Mykolaitį-Putiną
DESCRIPTION:
URL:https://www.vilniusliterature.lt/renginys/ekskursija-apie-prof-vinca-mykolaiti-putina-5/
END:VEVENT
BEGIN:VEVENT
DTSTART;TZID=Europe/Vilnius:20250606T163000
DTEND;TZID=Europe/Vilnius:20250606T173000
DTSTAMP:20260423T005547
CREATED:20250522T060013Z
LAST-MODIFIED:20250605T080824Z
UID:5913-1749227400-1749231000@www.vilniusliterature.lt
SUMMARY:Ekskursija apie prof. Vincą Mykolaitį-Putiną
DESCRIPTION:
URL:https://www.vilniusliterature.lt/renginys/ekskursija-apie-prof-vinca-mykolaiti-putina-4/
END:VEVENT
BEGIN:VEVENT
DTSTART;TZID=Europe/Vilnius:20250606T143000
DTEND;TZID=Europe/Vilnius:20250606T153000
DTSTAMP:20260423T005547
CREATED:20250522T054855Z
LAST-MODIFIED:20250605T080831Z
UID:5896-1749220200-1749223800@www.vilniusliterature.lt
SUMMARY:Ekskursija apie prof. Vincą Krėvę-Mickevičių
DESCRIPTION:
URL:https://www.vilniusliterature.lt/renginys/ekskursija-apie-prof-vinca-kreve-mickeviciu-7/
END:VEVENT
BEGIN:VEVENT
DTSTART;TZID=Europe/Vilnius:20250605T143000
DTEND;TZID=Europe/Vilnius:20250605T153000
DTSTAMP:20260423T005547
CREATED:20250522T055916Z
LAST-MODIFIED:20250605T080841Z
UID:5911-1749133800-1749137400@www.vilniusliterature.lt
SUMMARY:Ekskursija apie prof. Vincą Mykolaitį-Putiną
DESCRIPTION:
URL:https://www.vilniusliterature.lt/renginys/ekskursija-apie-prof-vinca-mykolaiti-putina-3/
END:VEVENT
BEGIN:VEVENT
DTSTART;TZID=Europe/Vilnius:20250604T163000
DTEND;TZID=Europe/Vilnius:20250604T173000
DTSTAMP:20260423T005547
CREATED:20250522T055753Z
LAST-MODIFIED:20250605T080857Z
UID:5909-1749054600-1749058200@www.vilniusliterature.lt
SUMMARY:Ekskursija apie prof. Vincą Mykolaitį-Putiną
DESCRIPTION:
URL:https://www.vilniusliterature.lt/renginys/ekskursija-apie-prof-vinca-mykolaiti-putina-2/
END:VEVENT
BEGIN:VEVENT
DTSTART;TZID=Europe/Vilnius:20250604T143000
DTEND;TZID=Europe/Vilnius:20250604T153000
DTSTAMP:20260423T005547
CREATED:20250522T054530Z
LAST-MODIFIED:20250605T080903Z
UID:5891-1749047400-1749051000@www.vilniusliterature.lt
SUMMARY:Ekskursija apie prof. Vincą Krėvę-Mickevičių
DESCRIPTION:
URL:https://www.vilniusliterature.lt/renginys/ekskursija-apie-prof-kreve-mickeviciu/
END:VEVENT
BEGIN:VEVENT
DTSTART;TZID=Europe/Vilnius:20250603T143000
DTEND;TZID=Europe/Vilnius:20250603T153000
DTSTAMP:20260423T005547
CREATED:20250522T054135Z
LAST-MODIFIED:20250605T080915Z
UID:5889-1748961000-1748964600@www.vilniusliterature.lt
SUMMARY:Ekskursija apie prof. Vincą Mykolaitį-Putiną
DESCRIPTION:
URL:https://www.vilniusliterature.lt/renginys/ekskursija-apie-prof-vinca-mykolaiti-putina/
END:VEVENT
BEGIN:VEVENT
DTSTART;TZID=Europe/Vilnius:20250531T140000
DTEND;TZID=Europe/Vilnius:20250531T150000
DTSTAMP:20260423T005547
CREATED:20250513T082206Z
LAST-MODIFIED:20250605T080917Z
UID:5278-1748700000-1748703600@www.vilniusliterature.lt
SUMMARY:Ekskursija apie prof. Vincą Krėvę-Mickevičių
DESCRIPTION:
URL:https://www.vilniusliterature.lt/renginys/ekskursija-apie-prof-vinca-kreve-mickeviciu-12/
END:VEVENT
BEGIN:VEVENT
DTSTART;TZID=Europe/Vilnius:20250531T120000
DTEND;TZID=Europe/Vilnius:20250531T130000
DTSTAMP:20260423T005547
CREATED:20250513T080553Z
LAST-MODIFIED:20250605T080924Z
UID:5246-1748692800-1748696400@www.vilniusliterature.lt
SUMMARY:Ekskursija apie prof. Vincą Mykolaitį-Putiną
DESCRIPTION:
URL:https://www.vilniusliterature.lt/renginys/apzvalgine-ekskursija-po-profesoriu-nama-16/
END:VEVENT
BEGIN:VEVENT
DTSTART;TZID=Europe/Vilnius:20250530T163000
DTEND;TZID=Europe/Vilnius:20250530T173000
DTSTAMP:20260423T005547
CREATED:20250513T082007Z
LAST-MODIFIED:20250605T080932Z
UID:5274-1748622600-1748626200@www.vilniusliterature.lt
SUMMARY:Ekskursija apie prof. Vincą Krėvę-Mickevičių
DESCRIPTION:
URL:https://www.vilniusliterature.lt/renginys/ekskursija-apie-prof-vinca-kreve-mickeviciu-11/
END:VEVENT
BEGIN:VEVENT
DTSTART;TZID=Europe/Vilnius:20250530T143000
DTEND;TZID=Europe/Vilnius:20250530T153000
DTSTAMP:20260423T005547
CREATED:20250513T080414Z
LAST-MODIFIED:20250605T080959Z
UID:5243-1748615400-1748619000@www.vilniusliterature.lt
SUMMARY:Ekskursija apie prof. Vincą Mykolaitį-Putiną
DESCRIPTION:
URL:https://www.vilniusliterature.lt/renginys/apzvalgine-ekskursija-po-profesoriu-nama-15/
END:VEVENT
BEGIN:VEVENT
DTSTART;TZID=Europe/Vilnius:20250529T163000
DTEND;TZID=Europe/Vilnius:20250529T173000
DTSTAMP:20260423T005547
CREATED:20250513T081916Z
LAST-MODIFIED:20250605T080414Z
UID:5271-1748536200-1748539800@www.vilniusliterature.lt
SUMMARY:Ekskursija apie prof. Vincą Krėvę-Mickevičių
DESCRIPTION:
URL:https://www.vilniusliterature.lt/renginys/ekskursija-apie-prof-vinca-kreve-mickeviciu-10/
END:VEVENT
BEGIN:VEVENT
DTSTART;TZID=Europe/Vilnius:20250528T163000
DTEND;TZID=Europe/Vilnius:20250528T173000
DTSTAMP:20260423T005547
CREATED:20250513T080216Z
LAST-MODIFIED:20250605T080418Z
UID:5231-1748449800-1748453400@www.vilniusliterature.lt
SUMMARY:Ekskursija apie prof. Vincą Mykolaitį-Putiną
DESCRIPTION:
URL:https://www.vilniusliterature.lt/renginys/apzvalgine-ekskursija-po-profesoriu-nama-13/
END:VEVENT
BEGIN:VEVENT
DTSTART;TZID=Europe/Vilnius:20250528T143000
DTEND;TZID=Europe/Vilnius:20250528T153000
DTSTAMP:20260423T005547
CREATED:20250513T081827Z
LAST-MODIFIED:20250605T080426Z
UID:5267-1748442600-1748446200@www.vilniusliterature.lt
SUMMARY:Ekskursija apie prof. Vincą Krėvę-Mickevičių
DESCRIPTION:
URL:https://www.vilniusliterature.lt/renginys/ekskursija-apie-prof-vinca-kreve-mickeviciu-9/
END:VEVENT
BEGIN:VEVENT
DTSTART;TZID=Europe/Vilnius:20250527T143000
DTEND;TZID=Europe/Vilnius:20250527T153000
DTSTAMP:20260423T005547
CREATED:20250513T075641Z
LAST-MODIFIED:20250605T080450Z
UID:5235-1748356200-1748359800@www.vilniusliterature.lt
SUMMARY:Ekskursija apie prof. Vincą Mykolaitį-Putiną
DESCRIPTION:
URL:https://www.vilniusliterature.lt/renginys/apzvalgine-ekskursija-po-profesoriu-nama-12/
END:VEVENT
BEGIN:VEVENT
DTSTART;TZID=Europe/Vilnius:20250524T140000
DTEND;TZID=Europe/Vilnius:20250524T150000
DTSTAMP:20260423T005547
CREATED:20250513T081729Z
LAST-MODIFIED:20250605T080442Z
UID:5266-1748095200-1748098800@www.vilniusliterature.lt
SUMMARY:Ekskursija apie prof. Vincą Krėvę-Mickevičių
DESCRIPTION:
URL:https://www.vilniusliterature.lt/renginys/ekskursija-apie-prof-vinca-kreve-mickeviciu-8/
END:VEVENT
BEGIN:VEVENT
DTSTART;TZID=Europe/Vilnius:20250524T120000
DTEND;TZID=Europe/Vilnius:20250524T130000
DTSTAMP:20260423T005547
CREATED:20250513T075404Z
LAST-MODIFIED:20250605T080505Z
UID:5229-1748088000-1748091600@www.vilniusliterature.lt
SUMMARY:Ekskursija apie prof. Vincą Mykolaitį-Putiną
DESCRIPTION:
URL:https://www.vilniusliterature.lt/renginys/apzvalgine-ekskursija-po-profesoriu-nama-11/
END:VEVENT
BEGIN:VEVENT
DTSTART;TZID=Europe/Vilnius:20250523T163000
DTEND;TZID=Europe/Vilnius:20250523T173000
DTSTAMP:20260423T005547
CREATED:20250513T075254Z
LAST-MODIFIED:20250605T080514Z
UID:5228-1748017800-1748021400@www.vilniusliterature.lt
SUMMARY:Ekskursija apie prof. Vincą Mykolaitį-Putiną
DESCRIPTION:
URL:https://www.vilniusliterature.lt/renginys/apzvalgine-ekskursija-po-profesoriu-nama-10/
END:VEVENT
BEGIN:VEVENT
DTSTART;TZID=Europe/Vilnius:20250522T163000
DTEND;TZID=Europe/Vilnius:20250522T173000
DTSTAMP:20260423T005547
CREATED:20250513T081459Z
LAST-MODIFIED:20250605T080521Z
UID:5260-1747931400-1747935000@www.vilniusliterature.lt
SUMMARY:Ekskursija apie prof. Vincą Krėvę-Mickevičių
DESCRIPTION:
URL:https://www.vilniusliterature.lt/renginys/ekskursija-apie-prof-vinca-kreve-mickeviciu-6/
END:VEVENT
BEGIN:VEVENT
DTSTART;TZID=Europe/Vilnius:20250522T143000
DTEND;TZID=Europe/Vilnius:20250522T163000
DTSTAMP:20260423T005547
CREATED:20250513T074918Z
LAST-MODIFIED:20250605T080526Z
UID:5222-1747924200-1747931400@www.vilniusliterature.lt
SUMMARY:Ekskursija apie prof. Vincą Mykolaitį-Putiną
DESCRIPTION:
URL:https://www.vilniusliterature.lt/renginys/apzvalgine-ekskursija-po-profesoriu-nama-8/
END:VEVENT
BEGIN:VEVENT
DTSTART;TZID=Europe/Vilnius:20250521T163000
DTEND;TZID=Europe/Vilnius:20250521T173000
DTSTAMP:20260423T005547
CREATED:20250513T074733Z
LAST-MODIFIED:20250605T080530Z
UID:5217-1747845000-1747848600@www.vilniusliterature.lt
SUMMARY:Ekskursija apie prof. Vincą Mykolaitį-Putiną
DESCRIPTION:
URL:https://www.vilniusliterature.lt/renginys/apzvalgine-ekskursija-po-profesoriu-nama-7/
END:VEVENT
BEGIN:VEVENT
DTSTART;TZID=Europe/Vilnius:20250521T143000
DTEND;TZID=Europe/Vilnius:20250521T153000
DTSTAMP:20260423T005547
CREATED:20250513T081439Z
LAST-MODIFIED:20250605T080537Z
UID:5259-1747837800-1747841400@www.vilniusliterature.lt
SUMMARY:Ekskursija apie prof. Vincą Krėvę-Mickevičių
DESCRIPTION:
URL:https://www.vilniusliterature.lt/renginys/ekskursija-apie-prof-vinca-kreve-mickeviciu-5/
END:VEVENT
BEGIN:VEVENT
DTSTART;TZID=Europe/Vilnius:20250520T143000
DTEND;TZID=Europe/Vilnius:20250520T153000
DTSTAMP:20260423T005547
CREATED:20250513T074641Z
LAST-MODIFIED:20250605T080542Z
UID:5216-1747751400-1747755000@www.vilniusliterature.lt
SUMMARY:Ekskursija apie prof. Vincą Mykolaitį-Putiną
DESCRIPTION:
URL:https://www.vilniusliterature.lt/renginys/apzvalgine-ekskursija-po-profesoriu-nama-6/
END:VEVENT
BEGIN:VEVENT
DTSTART;TZID=Europe/Vilnius:20250517T140000
DTEND;TZID=Europe/Vilnius:20250517T150000
DTSTAMP:20260423T005547
CREATED:20250428T104151Z
LAST-MODIFIED:20250605T080548Z
UID:3565-1747490400-1747494000@www.vilniusliterature.lt
SUMMARY:Ekskursija apie prof. Vincą Krėvę-Mickevičių
DESCRIPTION:
URL:https://www.vilniusliterature.lt/renginys/ekskursija-apie-prof-vinca-kreve-mickeviciu-4/
END:VEVENT
BEGIN:VEVENT
DTSTART;TZID=Europe/Vilnius:20250517T120000
DTEND;TZID=Europe/Vilnius:20250517T130000
DTSTAMP:20260423T005547
CREATED:20250512T210020Z
LAST-MODIFIED:20250605T080606Z
UID:5211-1747483200-1747486800@www.vilniusliterature.lt
SUMMARY:Ekskursija apie prof. Vincą Mykolaitį-Putiną
DESCRIPTION:
URL:https://www.vilniusliterature.lt/renginys/apzvalgine-ekskursija-po-profesoriu-nama-5/
END:VEVENT
BEGIN:VEVENT
DTSTART;TZID=Europe/Vilnius:20250516T163000
DTEND;TZID=Europe/Vilnius:20250516T173000
DTSTAMP:20260423T005547
CREATED:20250512T210043Z
LAST-MODIFIED:20250605T080614Z
UID:5208-1747413000-1747416600@www.vilniusliterature.lt
SUMMARY:Ekskursija apie prof. Vincą Mykolaitį-Putiną
DESCRIPTION:
URL:https://www.vilniusliterature.lt/renginys/apzvalgine-ekskursija-po-profesoriu-nama-4/
END:VEVENT
END:VCALENDAR