BEGIN:VCALENDAR
VERSION:2.0
PRODID:-//Vilnius literatūros miestas - ECPv6.15.13//NONSGML v1.0//EN
CALSCALE:GREGORIAN
METHOD:PUBLISH
X-WR-CALNAME:Vilnius literatūros miestas
X-ORIGINAL-URL:https://www.vilniusliterature.lt
X-WR-CALDESC:Vilnius literatūros miestas renginiai
REFRESH-INTERVAL;VALUE=DURATION:PT1H
X-Robots-Tag:noindex
X-PUBLISHED-TTL:PT1H
BEGIN:VTIMEZONE
TZID:Europe/Vilnius
BEGIN:DAYLIGHT
TZOFFSETFROM:+0200
TZOFFSETTO:+0300
TZNAME:EEST
DTSTART:20240331T010000
END:DAYLIGHT
BEGIN:STANDARD
TZOFFSETFROM:+0300
TZOFFSETTO:+0200
TZNAME:EET
DTSTART:20241027T010000
END:STANDARD
BEGIN:DAYLIGHT
TZOFFSETFROM:+0200
TZOFFSETTO:+0300
TZNAME:EEST
DTSTART:20250330T010000
END:DAYLIGHT
BEGIN:STANDARD
TZOFFSETFROM:+0300
TZOFFSETTO:+0200
TZNAME:EET
DTSTART:20251026T010000
END:STANDARD
BEGIN:DAYLIGHT
TZOFFSETFROM:+0200
TZOFFSETTO:+0300
TZNAME:EEST
DTSTART:20260329T010000
END:DAYLIGHT
BEGIN:STANDARD
TZOFFSETFROM:+0300
TZOFFSETTO:+0200
TZNAME:EET
DTSTART:20261025T010000
END:STANDARD
END:VTIMEZONE
BEGIN:VEVENT
DTSTART;TZID=Europe/Vilnius:20250704T163000
DTEND;TZID=Europe/Vilnius:20250704T173000
DTSTAMP:20260423T013047
CREATED:20250618T091827Z
LAST-MODIFIED:20250618T092650Z
UID:6235-1751646600-1751650200@www.vilniusliterature.lt
SUMMARY:Ekskursija apie prof. Vincą Mykolaitį-Putiną
DESCRIPTION:
URL:https://www.vilniusliterature.lt/renginys/ekskursija-apie-prof-vinca-mykolaiti-putina-22/
END:VEVENT
BEGIN:VEVENT
DTSTART;TZID=Europe/Vilnius:20250704T143000
DTEND;TZID=Europe/Vilnius:20250704T153000
DTSTAMP:20260423T013047
CREATED:20250618T095537Z
LAST-MODIFIED:20250618T095537Z
UID:6305-1751639400-1751643000@www.vilniusliterature.lt
SUMMARY:Ekskursija apie prof. Vincą Krėvę-Mickevičių
DESCRIPTION:
URL:https://www.vilniusliterature.lt/renginys/ekskursija-apie-prof-vinca-kreve-mickeviciu-27/
END:VEVENT
BEGIN:VEVENT
DTSTART;TZID=Europe/Vilnius:20250703T163000
DTEND;TZID=Europe/Vilnius:20250703T173000
DTSTAMP:20260423T013047
CREATED:20250618T095437Z
LAST-MODIFIED:20250618T095437Z
UID:6302-1751560200-1751563800@www.vilniusliterature.lt
SUMMARY:Ekskursija apie prof. Vincą Krėvę-Mickevičių
DESCRIPTION:
URL:https://www.vilniusliterature.lt/renginys/ekskursija-apie-prof-vinca-kreve-mickeviciu-26/
END:VEVENT
BEGIN:VEVENT
DTSTART;TZID=Europe/Vilnius:20250703T143000
DTEND;TZID=Europe/Vilnius:20250703T153000
DTSTAMP:20260423T013047
CREATED:20250604T062747Z
LAST-MODIFIED:20250605T075944Z
UID:6112-1751553000-1751556600@www.vilniusliterature.lt
SUMMARY:Ekskursija apie prof. Vincą Mykolaitį-Putiną
DESCRIPTION:
URL:https://www.vilniusliterature.lt/renginys/ekskursija-apie-prof-vinca-mykolaiti-putina-21/
END:VEVENT
BEGIN:VEVENT
DTSTART;TZID=Europe/Vilnius:20250702T163000
DTEND;TZID=Europe/Vilnius:20250702T173000
DTSTAMP:20260423T013047
CREATED:20250604T050809Z
LAST-MODIFIED:20250605T075949Z
UID:6103-1751473800-1751477400@www.vilniusliterature.lt
SUMMARY:Ekskursija apie prof. Vincą Mykolaitį-Putiną
DESCRIPTION:
URL:https://www.vilniusliterature.lt/renginys/ekskursija-apie-prof-vinca-mykolaiti-putina-20/
END:VEVENT
BEGIN:VEVENT
DTSTART;TZID=Europe/Vilnius:20250702T143000
DTEND;TZID=Europe/Vilnius:20250702T153000
DTSTAMP:20260423T013047
CREATED:20250618T095344Z
LAST-MODIFIED:20250618T095344Z
UID:6299-1751466600-1751470200@www.vilniusliterature.lt
SUMMARY:Ekskursija apie prof. Vincą Krėvę-Mickevičių
DESCRIPTION:
URL:https://www.vilniusliterature.lt/renginys/ekskursija-apie-prof-vinca-kreve-mickeviciu-25/
END:VEVENT
BEGIN:VEVENT
DTSTART;TZID=Europe/Vilnius:20250701T163000
DTEND;TZID=Europe/Vilnius:20250701T173000
DTSTAMP:20260423T013047
CREATED:20250618T095251Z
LAST-MODIFIED:20250618T095251Z
UID:6296-1751387400-1751391000@www.vilniusliterature.lt
SUMMARY:Ekskursija apie prof. Vincą Krėvę-Mickevičių
DESCRIPTION:
URL:https://www.vilniusliterature.lt/renginys/ekskursija-apie-prof-vinca-kreve-mickeviciu-24/
END:VEVENT
BEGIN:VEVENT
DTSTART;TZID=Europe/Vilnius:20250701T143000
DTEND;TZID=Europe/Vilnius:20250701T153000
DTSTAMP:20260423T013047
CREATED:20250602T084800Z
LAST-MODIFIED:20250605T075956Z
UID:6038-1751380200-1751383800@www.vilniusliterature.lt
SUMMARY:Ekskursija apie prof. Vincą Mykolaitį-Putiną
DESCRIPTION:
URL:https://www.vilniusliterature.lt/renginys/ekskursija-apie-prof-vinca-mykolaiti-putina-19/
END:VEVENT
BEGIN:VEVENT
DTSTART;TZID=Europe/Vilnius:20250628T140000
DTEND;TZID=Europe/Vilnius:20250628T150000
DTSTAMP:20260423T013047
CREATED:20250522T070829Z
LAST-MODIFIED:20250612T063509Z
UID:5941-1751119200-1751122800@www.vilniusliterature.lt
SUMMARY:Ekskursija apie prof. Vincą Krėvę-Mickevičių
DESCRIPTION:
URL:https://www.vilniusliterature.lt/renginys/ekskursija-apie-prof-vinca-kreve-mickeviciu-21/
END:VEVENT
BEGIN:VEVENT
DTSTART;TZID=Europe/Vilnius:20250628T120000
DTEND;TZID=Europe/Vilnius:20250628T130000
DTSTAMP:20260423T013047
CREATED:20250522T070452Z
LAST-MODIFIED:20250605T080009Z
UID:5933-1751112000-1751115600@www.vilniusliterature.lt
SUMMARY:Ekskursija apie prof. Vincą Mykolaitį-Putiną
DESCRIPTION:
URL:https://www.vilniusliterature.lt/renginys/ekskursija-apie-prof-vinca-mykolaiti-putina-14/
END:VEVENT
BEGIN:VEVENT
DTSTART;TZID=Europe/Vilnius:20250627T163000
DTEND;TZID=Europe/Vilnius:20250627T173000
DTSTAMP:20260423T013047
CREATED:20250522T070745Z
LAST-MODIFIED:20250612T063514Z
UID:5939-1751041800-1751045400@www.vilniusliterature.lt
SUMMARY:Ekskursija apie prof. Vincą Krėvę-Mickevičių
DESCRIPTION:
URL:https://www.vilniusliterature.lt/renginys/ekskursija-apie-prof-vinca-kreve-mickeviciu-20/
END:VEVENT
BEGIN:VEVENT
DTSTART;TZID=Europe/Vilnius:20250627T143000
DTEND;TZID=Europe/Vilnius:20250627T153000
DTSTAMP:20260423T013047
CREATED:20250522T070419Z
LAST-MODIFIED:20250611T114045Z
UID:5931-1751034600-1751038200@www.vilniusliterature.lt
SUMMARY:Ekskursija apie prof. Vincą Mykolaitį-Putiną
DESCRIPTION:
URL:https://www.vilniusliterature.lt/renginys/ekskursija-apie-prof-vinca-mykolaiti-putina-13/
END:VEVENT
BEGIN:VEVENT
DTSTART;TZID=Europe/Vilnius:20250626T163000
DTEND;TZID=Europe/Vilnius:20250626T173000
DTSTAMP:20260423T013047
CREATED:20250522T070703Z
LAST-MODIFIED:20250611T113956Z
UID:5937-1750955400-1750959000@www.vilniusliterature.lt
SUMMARY:Ekskursija apie prof. Vincą Krėvę-Mickevičių
DESCRIPTION:
URL:https://www.vilniusliterature.lt/renginys/ekskursija-apie-prof-vinca-kreve-mickeviciu-19/
END:VEVENT
BEGIN:VEVENT
DTSTART;TZID=Europe/Vilnius:20250626T143000
DTEND;TZID=Europe/Vilnius:20250626T153000
DTSTAMP:20260423T013047
CREATED:20250522T070318Z
LAST-MODIFIED:20250611T113716Z
UID:5929-1750948200-1750951800@www.vilniusliterature.lt
SUMMARY:Ekskursija apie prof. Vincą Mykolaitį-Putiną
DESCRIPTION:
URL:https://www.vilniusliterature.lt/renginys/ekskursija-apie-prof-vinca-mykolaiti-putina-12/
END:VEVENT
BEGIN:VEVENT
DTSTART;TZID=Europe/Vilnius:20250621T140000
DTEND;TZID=Europe/Vilnius:20250621T150000
DTSTAMP:20260423T013047
CREATED:20250522T070618Z
LAST-MODIFIED:20250605T080125Z
UID:5935-1750514400-1750518000@www.vilniusliterature.lt
SUMMARY:Ekskursija apie prof. Vincą Krėvę-Mickevičių
DESCRIPTION:
URL:https://www.vilniusliterature.lt/renginys/ekskursija-apie-prof-vinca-kreve-mickeviciu-18/
END:VEVENT
BEGIN:VEVENT
DTSTART;TZID=Europe/Vilnius:20250621T120000
DTEND;TZID=Europe/Vilnius:20250621T130000
DTSTAMP:20260423T013047
CREATED:20250522T070206Z
LAST-MODIFIED:20250611T113545Z
UID:5927-1750507200-1750510800@www.vilniusliterature.lt
SUMMARY:Ekskursija apie prof. Vincą Mykolaitį-Putiną
DESCRIPTION:
URL:https://www.vilniusliterature.lt/renginys/ekskursija-apie-prof-vinca-mykolaiti-putina-11/
END:VEVENT
BEGIN:VEVENT
DTSTART;TZID=Europe/Vilnius:20250620T143000
DTEND;TZID=Europe/Vilnius:20250620T153000
DTSTAMP:20260423T013047
CREATED:20250602T063741Z
LAST-MODIFIED:20250605T080138Z
UID:6026-1750429800-1750433400@www.vilniusliterature.lt
SUMMARY:Ekskursija apie prof. Vincą Mykolaitį-Putiną
DESCRIPTION:
URL:https://www.vilniusliterature.lt/renginys/ekskursija-apie-prof-vinca-mykolaiti-putina-18/
END:VEVENT
BEGIN:VEVENT
DTSTART;TZID=Europe/Vilnius:20250619T163000
DTEND;TZID=Europe/Vilnius:20250619T173000
DTSTAMP:20260423T013047
CREATED:20250602T064114Z
LAST-MODIFIED:20250611T113002Z
UID:6032-1750350600-1750354200@www.vilniusliterature.lt
SUMMARY:Ekskursija apie prof. Vincą Krėvę-Mickevičių
DESCRIPTION:
URL:https://www.vilniusliterature.lt/renginys/ekskursija-apie-prof-vinca-kreve-mickeviciu-23/
END:VEVENT
BEGIN:VEVENT
DTSTART;TZID=Europe/Vilnius:20250619T143000
DTEND;TZID=Europe/Vilnius:20250619T153000
DTSTAMP:20260423T013047
CREATED:20250602T062310Z
LAST-MODIFIED:20250611T112704Z
UID:6023-1750343400-1750347000@www.vilniusliterature.lt
SUMMARY:Ekskursija apie prof. Vincą Mykolaitį-Putiną
DESCRIPTION:
URL:https://www.vilniusliterature.lt/renginys/ekskursija-apie-prof-vinca-mykolaiti-putina-17/
END:VEVENT
BEGIN:VEVENT
DTSTART;TZID=Europe/Vilnius:20250618T163000
DTEND;TZID=Europe/Vilnius:20250618T173000
DTSTAMP:20260423T013047
CREATED:20250602T062202Z
LAST-MODIFIED:20250611T112625Z
UID:6020-1750264200-1750267800@www.vilniusliterature.lt
SUMMARY:Ekskursija apie prof. Vincą Mykolaitį-Putiną
DESCRIPTION:
URL:https://www.vilniusliterature.lt/renginys/ekskursija-apie-prof-vinca-mykolaiti-putina-16/
END:VEVENT
BEGIN:VEVENT
DTSTART;TZID=Europe/Vilnius:20250617T180000
DTEND;TZID=Europe/Vilnius:20250617T190000
DTSTAMP:20260423T013047
CREATED:20250523T083751Z
LAST-MODIFIED:20250611T112438Z
UID:5994-1750183200-1750186800@www.vilniusliterature.lt
SUMMARY:Patirtinis vakaras Vinco Mykolaičio-Putino svetainėje
DESCRIPTION:Ne paslaptis\, kad Vincas Mykolaitis-Putinas buvo tikras melomanas\, tad kviečiame praleisti vakarą klausant klasikinės muzikos autentiškoje aplinkoje. Šį kartą dėmesį sutelksime ne tik į rašytojo kūrybą\, bet ir į jo didžiulę aistrą muzikai\, ypač Ludwigo van Beethoveno kūriniams. Profesorius be galo mėgo šį kompozitorių\, o jo vinilinių plokštelių kolekcijoje Beethoveno įrašų itin gausu. Patirtinio vakaro metu ne tik klausysimės profesoriaus sukauptos kolekcijos įrašų\, bet ir pasinersime į V. Mykolaičio-Putino literatūros pasaulį – klausysimės aktoriaus Mindaugo Ancevičiaus skaitomų poeto eilėraščių. Visa tai lydės jaukūs pokalbiai prie arbatos puodelio su vaišėmis.
URL:https://www.vilniusliterature.lt/renginys/patirtinis-vakaras-vinco-mykolaicio-putino-svetaineje/
END:VEVENT
BEGIN:VEVENT
DTSTART;TZID=Europe/Vilnius:20250617T143000
DTEND;TZID=Europe/Vilnius:20250617T153000
DTSTAMP:20260423T013047
CREATED:20250602T061431Z
LAST-MODIFIED:20250611T112331Z
UID:6017-1750170600-1750174200@www.vilniusliterature.lt
SUMMARY:Ekskursija apie prof. Vincą Mykolaitį-Putiną
DESCRIPTION:
URL:https://www.vilniusliterature.lt/renginys/ekskursija-apie-prof-vinca-mykolaiti-putina-15/
END:VEVENT
BEGIN:VEVENT
DTSTART;TZID=Europe/Vilnius:20250614T140000
DTEND;TZID=Europe/Vilnius:20250614T150000
DTSTAMP:20260423T013047
CREATED:20250522T055614Z
LAST-MODIFIED:20250605T080215Z
UID:5907-1749909600-1749913200@www.vilniusliterature.lt
SUMMARY:Ekskursija apie prof. Vincą Krėvę-Mickevičių
DESCRIPTION:
URL:https://www.vilniusliterature.lt/renginys/ekskursija-apie-prof-vinca-kreve-mickeviciu-17/
END:VEVENT
BEGIN:VEVENT
DTSTART;TZID=Europe/Vilnius:20250614T120000
DTEND;TZID=Europe/Vilnius:20250614T130000
DTSTAMP:20260423T013047
CREATED:20250522T070051Z
LAST-MODIFIED:20250611T105840Z
UID:5925-1749902400-1749906000@www.vilniusliterature.lt
SUMMARY:Ekskursija apie prof. Vincą Mykolaitį-Putiną
DESCRIPTION:
URL:https://www.vilniusliterature.lt/renginys/ekskursija-apie-prof-vinca-mykolaiti-putina-10/
END:VEVENT
BEGIN:VEVENT
DTSTART;TZID=Europe/Vilnius:20250613T163000
DTEND;TZID=Europe/Vilnius:20250613T173000
DTSTAMP:20260423T013047
CREATED:20250522T055540Z
LAST-MODIFIED:20250611T105717Z
UID:5905-1749832200-1749835800@www.vilniusliterature.lt
SUMMARY:Ekskursija apie prof. Vincą Krėvę-Mickevičių
DESCRIPTION:
URL:https://www.vilniusliterature.lt/renginys/ekskursija-apie-prof-vinca-kreve-mickeviciu-16/
END:VEVENT
BEGIN:VEVENT
DTSTART;TZID=Europe/Vilnius:20250613T143000
DTEND;TZID=Europe/Vilnius:20250613T153000
DTSTAMP:20260423T013047
CREATED:20250522T070000Z
LAST-MODIFIED:20250611T105614Z
UID:5923-1749825000-1749828600@www.vilniusliterature.lt
SUMMARY:Ekskursija apie prof. Vincą Mykolaitį-Putiną
DESCRIPTION:
URL:https://www.vilniusliterature.lt/renginys/ekskursija-apie-prof-vinca-mykolaiti-putina-9/
END:VEVENT
BEGIN:VEVENT
DTSTART;TZID=Europe/Vilnius:20250612T163000
DTEND;TZID=Europe/Vilnius:20250612T173000
DTSTAMP:20260423T013047
CREATED:20250522T055311Z
LAST-MODIFIED:20250611T104517Z
UID:5902-1749745800-1749749400@www.vilniusliterature.lt
SUMMARY:Ekskursija apie prof. Vincą Krėvę-Mickevičių
DESCRIPTION:
URL:https://www.vilniusliterature.lt/renginys/ekskursija-apie-prof-vinca-kreve-mickeviciu-15/
END:VEVENT
BEGIN:VEVENT
DTSTART;TZID=Europe/Vilnius:20250612T143000
DTEND;TZID=Europe/Vilnius:20250612T153000
DTSTAMP:20260423T013047
CREATED:20250522T065909Z
LAST-MODIFIED:20250611T104136Z
UID:5921-1749738600-1749742200@www.vilniusliterature.lt
SUMMARY:Ekskursija apie prof. Vincą Mykolaitį-Putiną
DESCRIPTION:
URL:https://www.vilniusliterature.lt/renginys/ekskursija-apie-prof-vinca-mykolaiti-putina-8/
END:VEVENT
BEGIN:VEVENT
DTSTART;TZID=Europe/Vilnius:20250611T163000
DTEND;TZID=Europe/Vilnius:20250611T173000
DTSTAMP:20260423T013047
CREATED:20250522T065713Z
LAST-MODIFIED:20250605T080727Z
UID:5919-1749659400-1749663000@www.vilniusliterature.lt
SUMMARY:Ekskursija apie prof. Vincą Mykolaitį-Putiną
DESCRIPTION:
URL:https://www.vilniusliterature.lt/renginys/ekskursija-apie-prof-vinca-mykolaiti-putina-7/
END:VEVENT
BEGIN:VEVENT
DTSTART;TZID=Europe/Vilnius:20250611T143000
DTEND;TZID=Europe/Vilnius:20250611T153000
DTSTAMP:20260423T013047
CREATED:20250522T055219Z
LAST-MODIFIED:20250605T080803Z
UID:5900-1749652200-1749655800@www.vilniusliterature.lt
SUMMARY:Ekskursija apie prof. Vincą Krėvę-Mickevičių
DESCRIPTION:
URL:https://www.vilniusliterature.lt/renginys/ekskursija-apie-prof-vinca-kreve-mickeviciu-14/
END:VEVENT
END:VCALENDAR