BEGIN:VCALENDAR
VERSION:2.0
PRODID:-//Vilnius literatūros miestas - ECPv6.15.13//NONSGML v1.0//EN
CALSCALE:GREGORIAN
METHOD:PUBLISH
X-WR-CALNAME:Vilnius literatūros miestas
X-ORIGINAL-URL:https://www.vilniusliterature.lt
X-WR-CALDESC:Vilnius literatūros miestas renginiai
REFRESH-INTERVAL;VALUE=DURATION:PT1H
X-Robots-Tag:noindex
X-PUBLISHED-TTL:PT1H
BEGIN:VTIMEZONE
TZID:Europe/Vilnius
BEGIN:DAYLIGHT
TZOFFSETFROM:+0200
TZOFFSETTO:+0300
TZNAME:EEST
DTSTART:20250330T010000
END:DAYLIGHT
BEGIN:STANDARD
TZOFFSETFROM:+0300
TZOFFSETTO:+0200
TZNAME:EET
DTSTART:20251026T010000
END:STANDARD
BEGIN:DAYLIGHT
TZOFFSETFROM:+0200
TZOFFSETTO:+0300
TZNAME:EEST
DTSTART:20260329T010000
END:DAYLIGHT
BEGIN:STANDARD
TZOFFSETFROM:+0300
TZOFFSETTO:+0200
TZNAME:EET
DTSTART:20261025T010000
END:STANDARD
BEGIN:DAYLIGHT
TZOFFSETFROM:+0200
TZOFFSETTO:+0300
TZNAME:EEST
DTSTART:20270328T010000
END:DAYLIGHT
BEGIN:STANDARD
TZOFFSETFROM:+0300
TZOFFSETTO:+0200
TZNAME:EET
DTSTART:20271031T010000
END:STANDARD
END:VTIMEZONE
BEGIN:VEVENT
DTSTART;TZID=Europe/Vilnius:20260516T120000
DTEND;TZID=Europe/Vilnius:20260516T130000
DTSTAMP:20260421T065200
CREATED:20260415T073238Z
LAST-MODIFIED:20260415T073238Z
UID:13427-1778932800-1778936400@www.vilniusliterature.lt
SUMMARY:Apžvalginė ekskursija po Profesorių namą
DESCRIPTION:
URL:https://www.vilniusliterature.lt/renginys/apzvalgine-ekskursija-po-profesoriu-nama-120/
LOCATION:Tauro g. 10-3 (II a.)\, Tauro g. 10-3\, Vilnius\, Lithuania
END:VEVENT
BEGIN:VEVENT
DTSTART;TZID=Europe/Vilnius:20260516T133000
DTEND;TZID=Europe/Vilnius:20260516T143000
DTSTAMP:20260421T065200
CREATED:20260415T072833Z
LAST-MODIFIED:20260415T072833Z
UID:13411-1778938200-1778941800@www.vilniusliterature.lt
SUMMARY:Ekskursija po parodą „Kodėl išbraukta?”
DESCRIPTION:
URL:https://www.vilniusliterature.lt/renginys/ekskursija-po-paroda-kodel-isbraukta-58/
LOCATION:Tauro g. 10-3 (II a.)\, Tauro g. 10-3\, Vilnius\, Lithuania
END:VEVENT
BEGIN:VEVENT
DTSTART;TZID=Europe/Vilnius:20260519T143000
DTEND;TZID=Europe/Vilnius:20260519T153000
DTSTAMP:20260421T065200
CREATED:20260415T072241Z
LAST-MODIFIED:20260415T072241Z
UID:13387-1779201000-1779204600@www.vilniusliterature.lt
SUMMARY:Ekskursija po parodą „Kodėl išbraukta?”
DESCRIPTION:
URL:https://www.vilniusliterature.lt/renginys/ekskursija-po-paroda-kodel-isbraukta-46/
LOCATION:Tauro g. 10-3 (II a.)\, Tauro g. 10-3\, Vilnius\, Lithuania
END:VEVENT
BEGIN:VEVENT
DTSTART;TZID=Europe/Vilnius:20260519T180000
DTEND;TZID=Europe/Vilnius:20260519T190000
DTSTAMP:20260421T065200
CREATED:20260413T104330Z
LAST-MODIFIED:20260413T104330Z
UID:13189-1779213600-1779217200@www.vilniusliterature.lt
SUMMARY:Patirtinis vakaras Vinco Mykolaičio-Putino svetainėje
DESCRIPTION:
URL:https://www.vilniusliterature.lt/renginys/patirtinis-vakaras-vinco-mykolaicio-putino-svetaineje-43/
LOCATION:Tauro g. 10-3 (II a.)\, Tauro g. 10-3\, Vilnius\, Lithuania
END:VEVENT
BEGIN:VEVENT
DTSTART;TZID=Europe/Vilnius:20260520T143000
DTEND;TZID=Europe/Vilnius:20260520T153000
DTSTAMP:20260421T065200
CREATED:20260415T073456Z
LAST-MODIFIED:20260415T073456Z
UID:13435-1779287400-1779291000@www.vilniusliterature.lt
SUMMARY:Ekskursija apie prof. Vincą Mykolaitį-Putiną
DESCRIPTION:
URL:https://www.vilniusliterature.lt/renginys/ekskursija-apie-prof-vinca-mykolaiti-putina-147/
LOCATION:Tauro g. 10-3 (II a.)\, Tauro g. 10-3\, Vilnius\, Lithuania
END:VEVENT
BEGIN:VEVENT
DTSTART;TZID=Europe/Vilnius:20260520T163000
DTEND;TZID=Europe/Vilnius:20260520T173000
DTSTAMP:20260421T065200
CREATED:20260415T072449Z
LAST-MODIFIED:20260415T072449Z
UID:13395-1779294600-1779298200@www.vilniusliterature.lt
SUMMARY:Ekskursija po parodą „Kodėl išbraukta?”
DESCRIPTION:
URL:https://www.vilniusliterature.lt/renginys/ekskursija-po-paroda-kodel-isbraukta-50/
LOCATION:Tauro g. 10-3 (II a.)\, Tauro g. 10-3\, Vilnius\, Lithuania
END:VEVENT
BEGIN:VEVENT
DTSTART;TZID=Europe/Vilnius:20260522T143000
DTEND;TZID=Europe/Vilnius:20260522T153000
DTSTAMP:20260421T065200
CREATED:20260415T073108Z
LAST-MODIFIED:20260415T073108Z
UID:13421-1779460200-1779463800@www.vilniusliterature.lt
SUMMARY:Apžvalginė ekskursija po Profesorių namą
DESCRIPTION:
URL:https://www.vilniusliterature.lt/renginys/apzvalgine-ekskursija-po-profesoriu-nama-117/
LOCATION:Tauro g. 10-3 (II a.)\, Tauro g. 10-3\, Vilnius\, Lithuania
END:VEVENT
BEGIN:VEVENT
DTSTART;TZID=Europe/Vilnius:20260522T163000
DTEND;TZID=Europe/Vilnius:20260522T173000
DTSTAMP:20260421T065200
CREATED:20260415T072646Z
LAST-MODIFIED:20260415T072646Z
UID:13403-1779467400-1779471000@www.vilniusliterature.lt
SUMMARY:Ekskursija po parodą „Kodėl išbraukta?”
DESCRIPTION:
URL:https://www.vilniusliterature.lt/renginys/ekskursija-po-paroda-kodel-isbraukta-54/
LOCATION:Tauro g. 10-3 (II a.)\, Tauro g. 10-3\, Vilnius\, Lithuania
END:VEVENT
BEGIN:VEVENT
DTSTART;TZID=Europe/Vilnius:20260523T120000
DTEND;TZID=Europe/Vilnius:20260523T130000
DTSTAMP:20260421T065200
CREATED:20260415T073625Z
LAST-MODIFIED:20260415T073625Z
UID:13441-1779537600-1779541200@www.vilniusliterature.lt
SUMMARY:Ekskursija apie prof. Vincą Mykolaitį-Putiną
DESCRIPTION:
URL:https://www.vilniusliterature.lt/renginys/ekskursija-apie-prof-vinca-mykolaiti-putina-150/
LOCATION:Tauro g. 10-3 (II a.)\, Tauro g. 10-3\, Vilnius\, Lithuania
END:VEVENT
BEGIN:VEVENT
DTSTART;TZID=Europe/Vilnius:20260523T133000
DTEND;TZID=Europe/Vilnius:20260523T143000
DTSTAMP:20260421T065200
CREATED:20260415T072859Z
LAST-MODIFIED:20260415T072859Z
UID:13413-1779543000-1779546600@www.vilniusliterature.lt
SUMMARY:Ekskursija po parodą „Kodėl išbraukta?”
DESCRIPTION:
URL:https://www.vilniusliterature.lt/renginys/ekskursija-po-paroda-kodel-isbraukta-59/
LOCATION:Tauro g. 10-3 (II a.)\, Tauro g. 10-3\, Vilnius\, Lithuania
END:VEVENT
BEGIN:VEVENT
DTSTART;TZID=Europe/Vilnius:20260526T143000
DTEND;TZID=Europe/Vilnius:20260526T153000
DTSTAMP:20260421T065200
CREATED:20260415T072315Z
LAST-MODIFIED:20260415T072315Z
UID:13389-1779805800-1779809400@www.vilniusliterature.lt
SUMMARY:Ekskursija po parodą „Kodėl išbraukta?”
DESCRIPTION:
URL:https://www.vilniusliterature.lt/renginys/ekskursija-po-paroda-kodel-isbraukta-47/
LOCATION:Tauro g. 10-3 (II a.)\, Tauro g. 10-3\, Vilnius\, Lithuania
END:VEVENT
BEGIN:VEVENT
DTSTART;TZID=Europe/Vilnius:20260526T180000
DTEND;TZID=Europe/Vilnius:20260526T190000
DTSTAMP:20260421T065200
CREATED:20260413T104401Z
LAST-MODIFIED:20260413T104401Z
UID:13191-1779818400-1779822000@www.vilniusliterature.lt
SUMMARY:Patirtinis vakaras Vinco Mykolaičio-Putino svetainėje
DESCRIPTION:
URL:https://www.vilniusliterature.lt/renginys/patirtinis-vakaras-vinco-mykolaicio-putino-svetaineje-44/
LOCATION:Tauro g. 10-3 (II a.)\, Tauro g. 10-3\, Vilnius\, Lithuania
END:VEVENT
BEGIN:VEVENT
DTSTART;TZID=Europe/Vilnius:20260527T143000
DTEND;TZID=Europe/Vilnius:20260527T153000
DTSTAMP:20260421T065200
CREATED:20260415T073526Z
LAST-MODIFIED:20260415T073526Z
UID:13437-1779892200-1779895800@www.vilniusliterature.lt
SUMMARY:Ekskursija apie prof. Vincą Mykolaitį-Putiną
DESCRIPTION:
URL:https://www.vilniusliterature.lt/renginys/ekskursija-apie-prof-vinca-mykolaiti-putina-148/
LOCATION:Tauro g. 10-3 (II a.)\, Tauro g. 10-3\, Vilnius\, Lithuania
END:VEVENT
BEGIN:VEVENT
DTSTART;TZID=Europe/Vilnius:20260527T163000
DTEND;TZID=Europe/Vilnius:20260527T173000
DTSTAMP:20260421T065200
CREATED:20260415T072517Z
LAST-MODIFIED:20260415T072517Z
UID:13397-1779899400-1779903000@www.vilniusliterature.lt
SUMMARY:Ekskursija po parodą „Kodėl išbraukta?”
DESCRIPTION:
URL:https://www.vilniusliterature.lt/renginys/ekskursija-po-paroda-kodel-isbraukta-51/
LOCATION:Tauro g. 10-3 (II a.)\, Tauro g. 10-3\, Vilnius\, Lithuania
END:VEVENT
BEGIN:VEVENT
DTSTART;TZID=Europe/Vilnius:20260529T143000
DTEND;TZID=Europe/Vilnius:20260529T153000
DTSTAMP:20260421T065200
CREATED:20260415T073141Z
LAST-MODIFIED:20260415T073141Z
UID:13423-1780065000-1780068600@www.vilniusliterature.lt
SUMMARY:Apžvalginė ekskursija po Profesorių namą
DESCRIPTION:
URL:https://www.vilniusliterature.lt/renginys/apzvalgine-ekskursija-po-profesoriu-nama-118/
LOCATION:Tauro g. 10-3 (II a.)\, Tauro g. 10-3\, Vilnius\, Lithuania
END:VEVENT
BEGIN:VEVENT
DTSTART;TZID=Europe/Vilnius:20260529T163000
DTEND;TZID=Europe/Vilnius:20260529T173000
DTSTAMP:20260421T065200
CREATED:20260415T072713Z
LAST-MODIFIED:20260415T072713Z
UID:13405-1780072200-1780075800@www.vilniusliterature.lt
SUMMARY:Ekskursija po parodą „Kodėl išbraukta?”
DESCRIPTION:
URL:https://www.vilniusliterature.lt/renginys/ekskursija-po-paroda-kodel-isbraukta-55/
LOCATION:Tauro g. 10-3 (II a.)\, Tauro g. 10-3\, Vilnius\, Lithuania
END:VEVENT
BEGIN:VEVENT
DTSTART;TZID=Europe/Vilnius:20260530T120000
DTEND;TZID=Europe/Vilnius:20260530T130000
DTSTAMP:20260421T065200
CREATED:20260415T073311Z
LAST-MODIFIED:20260415T073311Z
UID:13429-1780142400-1780146000@www.vilniusliterature.lt
SUMMARY:Apžvalginė ekskursija po Profesorių namą
DESCRIPTION:
URL:https://www.vilniusliterature.lt/renginys/apzvalgine-ekskursija-po-profesoriu-nama-121/
LOCATION:Tauro g. 10-3 (II a.)\, Tauro g. 10-3\, Vilnius\, Lithuania
END:VEVENT
BEGIN:VEVENT
DTSTART;TZID=Europe/Vilnius:20260530T133000
DTEND;TZID=Europe/Vilnius:20260530T143000
DTSTAMP:20260421T065200
CREATED:20260415T072923Z
LAST-MODIFIED:20260415T072923Z
UID:13415-1780147800-1780151400@www.vilniusliterature.lt
SUMMARY:Ekskursija po parodą „Kodėl išbraukta?”
DESCRIPTION:
URL:https://www.vilniusliterature.lt/renginys/ekskursija-po-paroda-kodel-isbraukta-60/
LOCATION:Tauro g. 10-3 (II a.)\, Tauro g. 10-3\, Vilnius\, Lithuania
END:VEVENT
END:VCALENDAR