BEGIN:VCALENDAR
VERSION:2.0
PRODID:-//Vilnius literatūros miestas - ECPv6.15.13//NONSGML v1.0//EN
CALSCALE:GREGORIAN
METHOD:PUBLISH
X-WR-CALNAME:Vilnius literatūros miestas
X-ORIGINAL-URL:https://www.vilniusliterature.lt
X-WR-CALDESC:Vilnius literatūros miestas renginiai
REFRESH-INTERVAL;VALUE=DURATION:PT1H
X-Robots-Tag:noindex
X-PUBLISHED-TTL:PT1H
BEGIN:VTIMEZONE
TZID:Europe/Vilnius
BEGIN:DAYLIGHT
TZOFFSETFROM:+0200
TZOFFSETTO:+0300
TZNAME:EEST
DTSTART:20250330T010000
END:DAYLIGHT
BEGIN:STANDARD
TZOFFSETFROM:+0300
TZOFFSETTO:+0200
TZNAME:EET
DTSTART:20251026T010000
END:STANDARD
BEGIN:DAYLIGHT
TZOFFSETFROM:+0200
TZOFFSETTO:+0300
TZNAME:EEST
DTSTART:20260329T010000
END:DAYLIGHT
BEGIN:STANDARD
TZOFFSETFROM:+0300
TZOFFSETTO:+0200
TZNAME:EET
DTSTART:20261025T010000
END:STANDARD
BEGIN:DAYLIGHT
TZOFFSETFROM:+0200
TZOFFSETTO:+0300
TZNAME:EEST
DTSTART:20270328T010000
END:DAYLIGHT
BEGIN:STANDARD
TZOFFSETFROM:+0300
TZOFFSETTO:+0200
TZNAME:EET
DTSTART:20271031T010000
END:STANDARD
END:VTIMEZONE
BEGIN:VEVENT
DTSTART;TZID=Europe/Vilnius:20260408T163000
DTEND;TZID=Europe/Vilnius:20260408T173000
DTSTAMP:20260421T013713
CREATED:20260326T085448Z
LAST-MODIFIED:20260326T085448Z
UID:12941-1775665800-1775669400@www.vilniusliterature.lt
SUMMARY:Apžvalginė ekskursija po Profesorių namą
DESCRIPTION:
URL:https://www.vilniusliterature.lt/renginys/apzvalgine-ekskursija-po-profesoriu-nama-107/
LOCATION:Tauro g. 10-3 (II a.)\, Tauro g. 10-3\, Vilnius\, Lithuania
END:VEVENT
BEGIN:VEVENT
DTSTART;TZID=Europe/Vilnius:20260410T143000
DTEND;TZID=Europe/Vilnius:20260410T153000
DTSTAMP:20260421T013713
CREATED:20260326T085526Z
LAST-MODIFIED:20260326T085526Z
UID:12943-1775831400-1775835000@www.vilniusliterature.lt
SUMMARY:Apžvalginė ekskursija po Profesorių namą
DESCRIPTION:
URL:https://www.vilniusliterature.lt/renginys/apzvalgine-ekskursija-po-profesoriu-nama-108/
LOCATION:Tauro g. 10-3 (II a.)\, Tauro g. 10-3\, Vilnius\, Lithuania
END:VEVENT
BEGIN:VEVENT
DTSTART;TZID=Europe/Vilnius:20260410T163000
DTEND;TZID=Europe/Vilnius:20260410T173000
DTSTAMP:20260421T013713
CREATED:20260326T090012Z
LAST-MODIFIED:20260326T090012Z
UID:12957-1775838600-1775842200@www.vilniusliterature.lt
SUMMARY:Ekskursija po parodą „Kodėl išbraukta?”
DESCRIPTION:
URL:https://www.vilniusliterature.lt/renginys/ekskursija-po-paroda-kodel-isbraukta-37/
LOCATION:Tauro g. 10-3 (II a.)\, Tauro g. 10-3\, Vilnius\, Lithuania
END:VEVENT
BEGIN:VEVENT
DTSTART;TZID=Europe/Vilnius:20260411T120000
DTEND;TZID=Europe/Vilnius:20260411T130000
DTSTAMP:20260421T013713
CREATED:20260326T085559Z
LAST-MODIFIED:20260326T085559Z
UID:12945-1775908800-1775912400@www.vilniusliterature.lt
SUMMARY:Apžvalginė ekskursija po Profesorių namą
DESCRIPTION:
URL:https://www.vilniusliterature.lt/renginys/apzvalgine-ekskursija-po-profesoriu-nama-109/
LOCATION:Tauro g. 10-3 (II a.)\, Tauro g. 10-3\, Vilnius\, Lithuania
END:VEVENT
BEGIN:VEVENT
DTSTART;TZID=Europe/Vilnius:20260411T133000
DTEND;TZID=Europe/Vilnius:20260411T143000
DTSTAMP:20260421T013713
CREATED:20260326T090055Z
LAST-MODIFIED:20260326T090055Z
UID:12959-1775914200-1775917800@www.vilniusliterature.lt
SUMMARY:Ekskursija po parodą „Kodėl išbraukta?”
DESCRIPTION:
URL:https://www.vilniusliterature.lt/renginys/ekskursija-po-paroda-kodel-isbraukta-38/
LOCATION:Tauro g. 10-3 (II a.)\, Tauro g. 10-3\, Vilnius\, Lithuania
END:VEVENT
BEGIN:VEVENT
DTSTART;TZID=Europe/Vilnius:20260414T143000
DTEND;TZID=Europe/Vilnius:20260414T153000
DTSTAMP:20260421T013713
CREATED:20260326T090135Z
LAST-MODIFIED:20260326T090135Z
UID:12961-1776177000-1776180600@www.vilniusliterature.lt
SUMMARY:Ekskursija po parodą „Kodėl išbraukta?”
DESCRIPTION:
URL:https://www.vilniusliterature.lt/renginys/ekskursija-po-paroda-kodel-isbraukta-39/
LOCATION:Tauro g. 10-3 (II a.)\, Tauro g. 10-3\, Vilnius\, Lithuania
END:VEVENT
BEGIN:VEVENT
DTSTART;TZID=Europe/Vilnius:20260417T143000
DTEND;TZID=Europe/Vilnius:20260417T153000
DTSTAMP:20260421T013713
CREATED:20260326T085644Z
LAST-MODIFIED:20260326T085644Z
UID:12947-1776436200-1776439800@www.vilniusliterature.lt
SUMMARY:Apžvalginė ekskursija po Profesorių namą
DESCRIPTION:
URL:https://www.vilniusliterature.lt/renginys/apzvalgine-ekskursija-po-profesoriu-nama-110/
LOCATION:Tauro g. 10-3 (II a.)\, Tauro g. 10-3\, Vilnius\, Lithuania
END:VEVENT
BEGIN:VEVENT
DTSTART;TZID=Europe/Vilnius:20260417T163000
DTEND;TZID=Europe/Vilnius:20260417T173000
DTSTAMP:20260421T013713
CREATED:20260326T090301Z
LAST-MODIFIED:20260326T090301Z
UID:12963-1776443400-1776447000@www.vilniusliterature.lt
SUMMARY:Ekskursija po parodą „Kodėl išbraukta?”
DESCRIPTION:
URL:https://www.vilniusliterature.lt/renginys/ekskursija-po-paroda-kodel-isbraukta-40/
LOCATION:Tauro g. 10-3 (II a.)\, Tauro g. 10-3\, Vilnius\, Lithuania
END:VEVENT
BEGIN:VEVENT
DTSTART;TZID=Europe/Vilnius:20260418T120000
DTEND;TZID=Europe/Vilnius:20260418T130000
DTSTAMP:20260421T013713
CREATED:20260326T085223Z
LAST-MODIFIED:20260326T085223Z
UID:12933-1776513600-1776517200@www.vilniusliterature.lt
SUMMARY:Ekskursija apie prof. Vincą Mykolaitį-Putiną
DESCRIPTION:
URL:https://www.vilniusliterature.lt/renginys/ekskursija-apie-prof-vinca-mykolaiti-putina-142/
LOCATION:Tauro g. 10-3 (II a.)\, Tauro g. 10-3\, Vilnius\, Lithuania
END:VEVENT
BEGIN:VEVENT
DTSTART;TZID=Europe/Vilnius:20260418T133000
DTEND;TZID=Europe/Vilnius:20260418T143000
DTSTAMP:20260421T013713
CREATED:20260326T090334Z
LAST-MODIFIED:20260326T090334Z
UID:12965-1776519000-1776522600@www.vilniusliterature.lt
SUMMARY:Ekskursija po parodą „Kodėl išbraukta?”
DESCRIPTION:
URL:https://www.vilniusliterature.lt/renginys/ekskursija-po-paroda-kodel-isbraukta-41/
LOCATION:Tauro g. 10-3 (II a.)\, Tauro g. 10-3\, Vilnius\, Lithuania
END:VEVENT
BEGIN:VEVENT
DTSTART;TZID=Europe/Vilnius:20260421T180000
DTEND;TZID=Europe/Vilnius:20260421T190000
DTSTAMP:20260421T013713
CREATED:20260326T090707Z
LAST-MODIFIED:20260326T090707Z
UID:12973-1776794400-1776798000@www.vilniusliterature.lt
SUMMARY:Patirtinis vakaras Vinco Mykolaičio-Putino svetainėje
DESCRIPTION:
URL:https://www.vilniusliterature.lt/renginys/patirtinis-vakaras-vinco-mykolaicio-putino-svetaineje-39/
LOCATION:Tauro g. 10-3 (II a.)\, Tauro g. 10-3\, Vilnius\, Lithuania
END:VEVENT
BEGIN:VEVENT
DTSTART;TZID=Europe/Vilnius:20260422T143000
DTEND;TZID=Europe/Vilnius:20260422T153000
DTSTAMP:20260421T013713
CREATED:20260326T085140Z
LAST-MODIFIED:20260326T085140Z
UID:12931-1776868200-1776871800@www.vilniusliterature.lt
SUMMARY:Ekskursija apie prof. Vincą Mykolaitį-Putiną
DESCRIPTION:
URL:https://www.vilniusliterature.lt/renginys/ekskursija-apie-prof-vinca-mykolaiti-putina-141/
LOCATION:Tauro g. 10-3 (II a.)\, Tauro g. 10-3\, Vilnius\, Lithuania
END:VEVENT
BEGIN:VEVENT
DTSTART;TZID=Europe/Vilnius:20260422T163000
DTEND;TZID=Europe/Vilnius:20260422T173000
DTSTAMP:20260421T013713
CREATED:20260326T085719Z
LAST-MODIFIED:20260326T085719Z
UID:12949-1776875400-1776879000@www.vilniusliterature.lt
SUMMARY:Apžvalginė ekskursija po Profesorių namą
DESCRIPTION:
URL:https://www.vilniusliterature.lt/renginys/apzvalgine-ekskursija-po-profesoriu-nama-111/
LOCATION:Tauro g. 10-3 (II a.)\, Tauro g. 10-3\, Vilnius\, Lithuania
END:VEVENT
BEGIN:VEVENT
DTSTART;TZID=Europe/Vilnius:20260424T143000
DTEND;TZID=Europe/Vilnius:20260424T153000
DTSTAMP:20260421T013713
CREATED:20260326T085753Z
LAST-MODIFIED:20260326T085753Z
UID:12951-1777041000-1777044600@www.vilniusliterature.lt
SUMMARY:Apžvalginė ekskursija po Profesorių namą
DESCRIPTION:
URL:https://www.vilniusliterature.lt/renginys/apzvalgine-ekskursija-po-profesoriu-nama-112/
LOCATION:Tauro g. 10-3 (II a.)\, Tauro g. 10-3\, Vilnius\, Lithuania
END:VEVENT
BEGIN:VEVENT
DTSTART;TZID=Europe/Vilnius:20260424T163000
DTEND;TZID=Europe/Vilnius:20260424T173000
DTSTAMP:20260421T013713
CREATED:20260326T090417Z
LAST-MODIFIED:20260326T090417Z
UID:12967-1777048200-1777051800@www.vilniusliterature.lt
SUMMARY:Ekskursija po parodą „Kodėl išbraukta?”
DESCRIPTION:
URL:https://www.vilniusliterature.lt/renginys/ekskursija-po-paroda-kodel-isbraukta-42/
LOCATION:Tauro g. 10-3 (II a.)\, Tauro g. 10-3\, Vilnius\, Lithuania
END:VEVENT
BEGIN:VEVENT
DTSTART;VALUE=DATE:20260425
DTEND;VALUE=DATE:20260426
DTSTAMP:20260421T013713
CREATED:20260326T062219Z
LAST-MODIFIED:20260326T062750Z
UID:12893-1777075200-1777161599@www.vilniusliterature.lt
SUMMARY:Vienos dienos literatūros festivalis „Literalis“
DESCRIPTION:VšĮ „Vilnius\, UNESCO literatūros miestas“ balandžio 25 d. kviečia į vienos dienos literatūros festivalį „Literalis“. Pirmą kartą įstaigos padaliniuose – Pamėnkalnio viloje (Pamėnkalnio g. 34) ir Profesorių name (Tauro g. 10) – vyksiantis festivalis šiemet lankytojus pasitiks su tema „Žaidžiame klasiką“.  \nIstoriko dr. Norberto Černiausko\, @kaciaskaitai (Skaistės Grajauskės) ir poeto Mariaus Buroko kuruotoje programoje – daugiau nei 20 renginių: poezijos skaitymai\, teatro seminaras\, limerikų ir ekslibrisų dirbtuvės\, literatūrinės ekskursijos po miestą\, tylusis skaitymo vakarėlis\, aukcionas\, grupės „Bohemos tarifas“ koncertas\, prieš 30 metų išleistų knygų pristatymas\, o taip pat diskusijos apie literatūros prognozes ateičiai\, muzikos ir poezijos santykį\, dingusią bohemą ir\, žinoma\, klasiką.
URL:https://www.vilniusliterature.lt/renginys/vienos-dienos-literaturos-festivalis-literalis/
END:VEVENT
BEGIN:VEVENT
DTSTART;TZID=Europe/Vilnius:20260428T143000
DTEND;TZID=Europe/Vilnius:20260428T153000
DTSTAMP:20260421T013713
CREATED:20260326T090458Z
LAST-MODIFIED:20260326T090458Z
UID:12969-1777386600-1777390200@www.vilniusliterature.lt
SUMMARY:Ekskursija po parodą „Kodėl išbraukta?”
DESCRIPTION:
URL:https://www.vilniusliterature.lt/renginys/ekskursija-po-paroda-kodel-isbraukta-43/
LOCATION:Tauro g. 10-3 (II a.)\, Tauro g. 10-3\, Vilnius\, Lithuania
END:VEVENT
BEGIN:VEVENT
DTSTART;TZID=Europe/Vilnius:20260428T180000
DTEND;TZID=Europe/Vilnius:20260428T190000
DTSTAMP:20260421T013713
CREATED:20260326T091326Z
LAST-MODIFIED:20260326T091326Z
UID:12982-1777399200-1777402800@www.vilniusliterature.lt
SUMMARY:Patirtinis vakaras Vinco Mykolaičio-Putino svetainėje
DESCRIPTION:
URL:https://www.vilniusliterature.lt/renginys/patirtinis-vakaras-vinco-mykolaicio-putino-svetaineje-40/
LOCATION:Tauro g. 10-3 (II a.)\, Tauro g. 10-3\, Vilnius\, Lithuania
END:VEVENT
BEGIN:VEVENT
DTSTART;TZID=Europe/Vilnius:20260429T143000
DTEND;TZID=Europe/Vilnius:20260429T153000
DTSTAMP:20260421T013713
CREATED:20260326T082225Z
LAST-MODIFIED:20260326T082225Z
UID:12923-1777473000-1777476600@www.vilniusliterature.lt
SUMMARY:Ekskursija apie prof. Vincą Mykolaitį-Putiną
DESCRIPTION:
URL:https://www.vilniusliterature.lt/renginys/ekskursija-apie-prof-vinca-mykolaiti-putina-140/
LOCATION:Tauro g. 10-3 (II a.)\, Tauro g. 10-3\, Vilnius\, Lithuania
END:VEVENT
BEGIN:VEVENT
DTSTART;TZID=Europe/Vilnius:20260429T163000
DTEND;TZID=Europe/Vilnius:20260429T173000
DTSTAMP:20260421T013713
CREATED:20260326T085823Z
LAST-MODIFIED:20260326T085823Z
UID:12953-1777480200-1777483800@www.vilniusliterature.lt
SUMMARY:Apžvalginė ekskursija po Profesorių namą
DESCRIPTION:
URL:https://www.vilniusliterature.lt/renginys/apzvalgine-ekskursija-po-profesoriu-nama-113/
LOCATION:Tauro g. 10-3 (II a.)\, Tauro g. 10-3\, Vilnius\, Lithuania
END:VEVENT
BEGIN:VEVENT
DTSTART;TZID=Europe/Vilnius:20260502T120000
DTEND;TZID=Europe/Vilnius:20260502T130000
DTSTAMP:20260421T013713
CREATED:20260415T073210Z
LAST-MODIFIED:20260415T073210Z
UID:13425-1777723200-1777726800@www.vilniusliterature.lt
SUMMARY:Apžvalginė ekskursija po Profesorių namą
DESCRIPTION:
URL:https://www.vilniusliterature.lt/renginys/apzvalgine-ekskursija-po-profesoriu-nama-119/
LOCATION:Tauro g. 10-3 (II a.)\, Tauro g. 10-3\, Vilnius\, Lithuania
END:VEVENT
BEGIN:VEVENT
DTSTART;TZID=Europe/Vilnius:20260502T133000
DTEND;TZID=Europe/Vilnius:20260502T143000
DTSTAMP:20260421T013713
CREATED:20260415T072741Z
LAST-MODIFIED:20260415T072741Z
UID:13407-1777728600-1777732200@www.vilniusliterature.lt
SUMMARY:Ekskursija po parodą „Kodėl išbraukta?”
DESCRIPTION:
URL:https://www.vilniusliterature.lt/renginys/ekskursija-po-paroda-kodel-isbraukta-56/
LOCATION:Tauro g. 10-3 (II a.)\, Tauro g. 10-3\, Vilnius\, Lithuania
END:VEVENT
BEGIN:VEVENT
DTSTART;TZID=Europe/Vilnius:20260505T143000
DTEND;TZID=Europe/Vilnius:20260505T153000
DTSTAMP:20260421T013713
CREATED:20260415T072142Z
LAST-MODIFIED:20260415T072142Z
UID:13382-1777991400-1777995000@www.vilniusliterature.lt
SUMMARY:Ekskursija po parodą „Kodėl išbraukta?”
DESCRIPTION:
URL:https://www.vilniusliterature.lt/renginys/ekskursija-po-paroda-kodel-isbraukta-44/
LOCATION:Tauro g. 10-3 (II a.)\, Tauro g. 10-3\, Vilnius\, Lithuania
END:VEVENT
BEGIN:VEVENT
DTSTART;TZID=Europe/Vilnius:20260505T180000
DTEND;TZID=Europe/Vilnius:20260505T190000
DTSTAMP:20260421T013713
CREATED:20260413T104216Z
LAST-MODIFIED:20260413T104216Z
UID:13185-1778004000-1778007600@www.vilniusliterature.lt
SUMMARY:Patirtinis vakaras Vinco Mykolaičio-Putino svetainėje
DESCRIPTION:
URL:https://www.vilniusliterature.lt/renginys/patirtinis-vakaras-vinco-mykolaicio-putino-svetaineje-41/
LOCATION:Tauro g. 10-3 (II a.)\, Tauro g. 10-3\, Vilnius\, Lithuania
END:VEVENT
BEGIN:VEVENT
DTSTART;TZID=Europe/Vilnius:20260506T143000
DTEND;TZID=Europe/Vilnius:20260506T153000
DTSTAMP:20260421T013713
CREATED:20260415T073347Z
LAST-MODIFIED:20260415T073347Z
UID:13431-1778077800-1778081400@www.vilniusliterature.lt
SUMMARY:Ekskursija apie prof. Vincą Mykolaitį-Putiną
DESCRIPTION:
URL:https://www.vilniusliterature.lt/renginys/ekskursija-apie-prof-vinca-mykolaiti-putina-145/
LOCATION:Tauro g. 10-3 (II a.)\, Tauro g. 10-3\, Vilnius\, Lithuania
END:VEVENT
BEGIN:VEVENT
DTSTART;TZID=Europe/Vilnius:20260506T163000
DTEND;TZID=Europe/Vilnius:20260506T173000
DTSTAMP:20260421T013713
CREATED:20260415T072349Z
LAST-MODIFIED:20260415T072349Z
UID:13391-1778085000-1778088600@www.vilniusliterature.lt
SUMMARY:Ekskursija po parodą „Kodėl išbraukta?”
DESCRIPTION:
URL:https://www.vilniusliterature.lt/renginys/ekskursija-po-paroda-kodel-isbraukta-48/
LOCATION:Tauro g. 10-3 (II a.)\, Tauro g. 10-3\, Vilnius\, Lithuania
END:VEVENT
BEGIN:VEVENT
DTSTART;TZID=Europe/Vilnius:20260508T143000
DTEND;TZID=Europe/Vilnius:20260508T153000
DTSTAMP:20260421T013713
CREATED:20260415T073012Z
LAST-MODIFIED:20260415T073012Z
UID:13417-1778250600-1778254200@www.vilniusliterature.lt
SUMMARY:Apžvalginė ekskursija po Profesorių namą
DESCRIPTION:
URL:https://www.vilniusliterature.lt/renginys/apzvalgine-ekskursija-po-profesoriu-nama-115/
LOCATION:Tauro g. 10-3 (II a.)\, Tauro g. 10-3\, Vilnius\, Lithuania
END:VEVENT
BEGIN:VEVENT
DTSTART;TZID=Europe/Vilnius:20260508T163000
DTEND;TZID=Europe/Vilnius:20260508T173000
DTSTAMP:20260421T013713
CREATED:20260415T072548Z
LAST-MODIFIED:20260415T072548Z
UID:13399-1778257800-1778261400@www.vilniusliterature.lt
SUMMARY:Ekskursija po parodą „Kodėl išbraukta?”
DESCRIPTION:
URL:https://www.vilniusliterature.lt/renginys/ekskursija-po-paroda-kodel-isbraukta-52/
LOCATION:Tauro g. 10-3 (II a.)\, Tauro g. 10-3\, Vilnius\, Lithuania
END:VEVENT
BEGIN:VEVENT
DTSTART;TZID=Europe/Vilnius:20260509T120000
DTEND;TZID=Europe/Vilnius:20260509T130000
DTSTAMP:20260421T013713
CREATED:20260415T073556Z
LAST-MODIFIED:20260415T073556Z
UID:13439-1778328000-1778331600@www.vilniusliterature.lt
SUMMARY:Ekskursija apie prof. Vincą Mykolaitį-Putiną
DESCRIPTION:
URL:https://www.vilniusliterature.lt/renginys/ekskursija-apie-prof-vinca-mykolaiti-putina-149/
LOCATION:Tauro g. 10-3 (II a.)\, Tauro g. 10-3\, Vilnius\, Lithuania
END:VEVENT
BEGIN:VEVENT
DTSTART;TZID=Europe/Vilnius:20260509T133000
DTEND;TZID=Europe/Vilnius:20260509T143000
DTSTAMP:20260421T013713
CREATED:20260415T072809Z
LAST-MODIFIED:20260415T072809Z
UID:13409-1778333400-1778337000@www.vilniusliterature.lt
SUMMARY:Ekskursija po parodą „Kodėl išbraukta?”
DESCRIPTION:
URL:https://www.vilniusliterature.lt/renginys/ekskursija-po-paroda-kodel-isbraukta-57/
LOCATION:Tauro g. 10-3 (II a.)\, Tauro g. 10-3\, Vilnius\, Lithuania
END:VEVENT
END:VCALENDAR