BEGIN:VCALENDAR
VERSION:2.0
PRODID:-//Vilnius literatūros miestas - ECPv6.15.13//NONSGML v1.0//EN
CALSCALE:GREGORIAN
METHOD:PUBLISH
X-WR-CALNAME:Vilnius literatūros miestas
X-ORIGINAL-URL:https://www.vilniusliterature.lt
X-WR-CALDESC:Vilnius literatūros miestas renginiai
REFRESH-INTERVAL;VALUE=DURATION:PT1H
X-Robots-Tag:noindex
X-PUBLISHED-TTL:PT1H
BEGIN:VTIMEZONE
TZID:Europe/Vilnius
BEGIN:DAYLIGHT
TZOFFSETFROM:+0200
TZOFFSETTO:+0300
TZNAME:EEST
DTSTART:20240331T010000
END:DAYLIGHT
BEGIN:STANDARD
TZOFFSETFROM:+0300
TZOFFSETTO:+0200
TZNAME:EET
DTSTART:20241027T010000
END:STANDARD
BEGIN:DAYLIGHT
TZOFFSETFROM:+0200
TZOFFSETTO:+0300
TZNAME:EEST
DTSTART:20250330T010000
END:DAYLIGHT
BEGIN:STANDARD
TZOFFSETFROM:+0300
TZOFFSETTO:+0200
TZNAME:EET
DTSTART:20251026T010000
END:STANDARD
BEGIN:DAYLIGHT
TZOFFSETFROM:+0200
TZOFFSETTO:+0300
TZNAME:EEST
DTSTART:20260329T010000
END:DAYLIGHT
BEGIN:STANDARD
TZOFFSETFROM:+0300
TZOFFSETTO:+0200
TZNAME:EET
DTSTART:20261025T010000
END:STANDARD
END:VTIMEZONE
BEGIN:VEVENT
DTSTART;TZID=Europe/Vilnius:20250812T143000
DTEND;TZID=Europe/Vilnius:20250812T153000
DTSTAMP:20260421T224902
CREATED:20250729T082540Z
LAST-MODIFIED:20250729T082540Z
UID:7141-1755009000-1755012600@www.vilniusliterature.lt
SUMMARY:Ekskursija apie prof. Vincą Mykolaitį-Putiną
DESCRIPTION:
URL:https://www.vilniusliterature.lt/renginys/ekskursija-apie-prof-vinca-mykolaiti-putina-43/
END:VEVENT
BEGIN:VEVENT
DTSTART;TZID=Europe/Vilnius:20250809T140000
DTEND;TZID=Europe/Vilnius:20250809T150000
DTSTAMP:20260421T224902
CREATED:20250729T090328Z
LAST-MODIFIED:20250729T090328Z
UID:7241-1754748000-1754751600@www.vilniusliterature.lt
SUMMARY:Ekskursija apie prof. Vincą Krėvę-Mickevičių
DESCRIPTION:
URL:https://www.vilniusliterature.lt/renginys/ekskursija-apie-prof-vinca-kreve-mickeviciu-62/
END:VEVENT
BEGIN:VEVENT
DTSTART;TZID=Europe/Vilnius:20250807T143000
DTEND;TZID=Europe/Vilnius:20250807T153000
DTSTAMP:20260421T224902
CREATED:20250729T083238Z
LAST-MODIFIED:20250729T083238Z
UID:7162-1754577000-1754580600@www.vilniusliterature.lt
SUMMARY:Ekskursija apie prof. Vincą Mykolaitį-Putiną
DESCRIPTION:
URL:https://www.vilniusliterature.lt/renginys/ekskursija-apie-prof-vinca-mykolaiti-putina-50/
END:VEVENT
BEGIN:VEVENT
DTSTART;TZID=Europe/Vilnius:20250806T163000
DTEND;TZID=Europe/Vilnius:20250806T173000
DTSTAMP:20260421T224902
CREATED:20250729T082846Z
LAST-MODIFIED:20250729T082846Z
UID:7150-1754497800-1754501400@www.vilniusliterature.lt
SUMMARY:Ekskursija apie prof. Vincą Mykolaitį-Putiną
DESCRIPTION:
URL:https://www.vilniusliterature.lt/renginys/ekskursija-apie-prof-vinca-mykolaiti-putina-46/
END:VEVENT
BEGIN:VEVENT
DTSTART;TZID=Europe/Vilnius:20250806T143000
DTEND;TZID=Europe/Vilnius:20250806T153000
DTSTAMP:20260421T224902
CREATED:20250729T085050Z
LAST-MODIFIED:20250729T085050Z
UID:7207-1754490600-1754494200@www.vilniusliterature.lt
SUMMARY:Ekskursija apie prof. Vincą Krėvę-Mickevičių
DESCRIPTION:
URL:https://www.vilniusliterature.lt/renginys/ekskursija-apie-prof-vinca-kreve-mickeviciu-51/
END:VEVENT
BEGIN:VEVENT
DTSTART;TZID=Europe/Vilnius:20250805T180000
DTEND;TZID=Europe/Vilnius:20250805T193000
DTSTAMP:20260421T224902
CREATED:20250729T095529Z
LAST-MODIFIED:20250729T095529Z
UID:7255-1754416800-1754422200@www.vilniusliterature.lt
SUMMARY:Patirtinis vakaras Vinco Mykolaičio-Putino svetainėje
DESCRIPTION:
URL:https://www.vilniusliterature.lt/renginys/patirtinis-vakaras-vinco-mykolaicio-putino-svetaineje-4/
END:VEVENT
BEGIN:VEVENT
DTSTART;TZID=Europe/Vilnius:20250805T163000
DTEND;TZID=Europe/Vilnius:20250805T173000
DTSTAMP:20260421T224902
CREATED:20250729T084621Z
LAST-MODIFIED:20250729T084621Z
UID:7195-1754411400-1754415000@www.vilniusliterature.lt
SUMMARY:Ekskursija apie prof. Vincą Krėvę-Mickevičių
DESCRIPTION:
URL:https://www.vilniusliterature.lt/renginys/ekskursija-apie-prof-vinca-kreve-mickeviciu-47/
END:VEVENT
BEGIN:VEVENT
DTSTART;TZID=Europe/Vilnius:20250805T143000
DTEND;TZID=Europe/Vilnius:20250805T153000
DTSTAMP:20260421T224902
CREATED:20250729T082359Z
LAST-MODIFIED:20250729T082359Z
UID:7138-1754404200-1754407800@www.vilniusliterature.lt
SUMMARY:Ekskursija apie prof. Vincą Mykolaitį-Putiną
DESCRIPTION:
URL:https://www.vilniusliterature.lt/renginys/ekskursija-apie-prof-vinca-mykolaiti-putina-42/
END:VEVENT
BEGIN:VEVENT
DTSTART;TZID=Europe/Vilnius:20250802T140000
DTEND;TZID=Europe/Vilnius:20250802T150000
DTSTAMP:20260421T224902
CREATED:20250729T090215Z
LAST-MODIFIED:20250729T090215Z
UID:7238-1754143200-1754146800@www.vilniusliterature.lt
SUMMARY:Ekskursija apie prof. Vincą Krėvę-Mickevičių
DESCRIPTION:
URL:https://www.vilniusliterature.lt/renginys/ekskursija-apie-prof-vinca-kreve-mickeviciu-61/
END:VEVENT
BEGIN:VEVENT
DTSTART;TZID=Europe/Vilnius:20250802T120000
DTEND;TZID=Europe/Vilnius:20250802T130000
DTSTAMP:20260421T224902
CREATED:20250729T083934Z
LAST-MODIFIED:20250729T083934Z
UID:7183-1754136000-1754139600@www.vilniusliterature.lt
SUMMARY:Ekskursija apie prof. Vincą Mykolaitį-Putiną
DESCRIPTION:
URL:https://www.vilniusliterature.lt/renginys/ekskursija-apie-prof-vinca-mykolaiti-putina-57/
END:VEVENT
BEGIN:VEVENT
DTSTART;TZID=Europe/Vilnius:20250801T163000
DTEND;TZID=Europe/Vilnius:20250801T173000
DTSTAMP:20260421T224902
CREATED:20250729T083638Z
LAST-MODIFIED:20250729T083638Z
UID:7174-1754065800-1754069400@www.vilniusliterature.lt
SUMMARY:Ekskursija apie prof. Vincą Mykolaitį-Putiną
DESCRIPTION:
URL:https://www.vilniusliterature.lt/renginys/ekskursija-apie-prof-vinca-mykolaiti-putina-54/
END:VEVENT
BEGIN:VEVENT
DTSTART;TZID=Europe/Vilnius:20250801T143000
DTEND;TZID=Europe/Vilnius:20250801T153000
DTSTAMP:20260421T224902
CREATED:20250729T085900Z
LAST-MODIFIED:20250729T085900Z
UID:7229-1754058600-1754062200@www.vilniusliterature.lt
SUMMARY:Ekskursija apie prof. Vincą Krėvę-Mickevičių
DESCRIPTION:
URL:https://www.vilniusliterature.lt/renginys/ekskursija-apie-prof-vinca-kreve-mickeviciu-58/
END:VEVENT
BEGIN:VEVENT
DTSTART;TZID=Europe/Vilnius:20250731T163000
DTEND;TZID=Europe/Vilnius:20250731T173000
DTSTAMP:20260421T224902
CREATED:20250618T101330Z
LAST-MODIFIED:20250618T101330Z
UID:6363-1753979400-1753983000@www.vilniusliterature.lt
SUMMARY:Ekskursija apie prof. Vincą Krėvę-Mickevičių
DESCRIPTION:
URL:https://www.vilniusliterature.lt/renginys/ekskursija-apie-prof-vinca-kreve-mickeviciu-46/
END:VEVENT
BEGIN:VEVENT
DTSTART;TZID=Europe/Vilnius:20250731T143000
DTEND;TZID=Europe/Vilnius:20250731T153000
DTSTAMP:20260421T224902
CREATED:20250618T094718Z
LAST-MODIFIED:20250618T094718Z
UID:6293-1753972200-1753975800@www.vilniusliterature.lt
SUMMARY:Ekskursija apie prof. Vincą Mykolaitį-Putiną
DESCRIPTION:
URL:https://www.vilniusliterature.lt/renginys/ekskursija-apie-prof-vinca-mykolaiti-putina-41/
END:VEVENT
BEGIN:VEVENT
DTSTART;TZID=Europe/Vilnius:20250730T163000
DTEND;TZID=Europe/Vilnius:20250730T173000
DTSTAMP:20260421T224902
CREATED:20250618T094625Z
LAST-MODIFIED:20250618T094625Z
UID:6290-1753893000-1753896600@www.vilniusliterature.lt
SUMMARY:Ekskursija apie prof. Vincą Mykolaitį-Putiną
DESCRIPTION:
URL:https://www.vilniusliterature.lt/renginys/ekskursija-apie-prof-vinca-mykolaiti-putina-40/
END:VEVENT
BEGIN:VEVENT
DTSTART;TZID=Europe/Vilnius:20250730T143000
DTEND;TZID=Europe/Vilnius:20250730T153000
DTSTAMP:20260421T224902
CREATED:20250618T101244Z
LAST-MODIFIED:20250618T101244Z
UID:6360-1753885800-1753889400@www.vilniusliterature.lt
SUMMARY:Ekskursija apie prof. Vincą Krėvę-Mickevičių
DESCRIPTION:
URL:https://www.vilniusliterature.lt/renginys/ekskursija-apie-prof-vinca-kreve-mickeviciu-45/
END:VEVENT
BEGIN:VEVENT
DTSTART;TZID=Europe/Vilnius:20250729T180000
DTEND;TZID=Europe/Vilnius:20250729T193000
DTSTAMP:20260421T224902
CREATED:20250710T061634Z
LAST-MODIFIED:20250710T061634Z
UID:6879-1753812000-1753817400@www.vilniusliterature.lt
SUMMARY:Patirtinis vakaras Vinco Mykolaičio-Putino svetainėje
DESCRIPTION:Ne paslaptis\, kad Vincas Mykolaitis-Putinas buvo tikras melomanas\, tad kviečiame praleisti vakarą klausant klasikinės muzikos autentiškoje aplinkoje. Šį kartą dėmesį sutelksime ne tik į rašytojo kūrybą\, bet ir į jo didžiulę aistrą muzikai\, ypač Ludwigo van Beethoveno kūriniams. Profesorius be galo mėgo šį kompozitorių\, o jo vinilinių plokštelių kolekcijoje Beethoveno įrašų itin gausu. Patirtinio vakaro metu ne tik klausysimės profesoriaus sukauptos kolekcijos įrašų\, bet ir pasinersime į V. Mykolaičio-Putino literatūros pasaulį – klausysimės aktoriaus Mindaugo Ancevičiaus skaitomų poeto eilėraščių. Visa tai lydės jaukūs pokalbiai prie arbatos puodelio su vaišėmis.
URL:https://www.vilniusliterature.lt/renginys/patirtinis-vakaras-vinco-mykolaicio-putino-svetaineje-3/
END:VEVENT
BEGIN:VEVENT
DTSTART;TZID=Europe/Vilnius:20250729T143000
DTEND;TZID=Europe/Vilnius:20250729T153000
DTSTAMP:20260421T224902
CREATED:20250618T094524Z
LAST-MODIFIED:20250618T094524Z
UID:6287-1753799400-1753803000@www.vilniusliterature.lt
SUMMARY:Ekskursija apie prof. Vincą Mykolaitį-Putiną
DESCRIPTION:
URL:https://www.vilniusliterature.lt/renginys/ekskursija-apie-prof-vinca-mykolaiti-putina-39/
END:VEVENT
BEGIN:VEVENT
DTSTART;TZID=Europe/Vilnius:20250726T140000
DTEND;TZID=Europe/Vilnius:20250726T150000
DTSTAMP:20260421T224902
CREATED:20250618T101050Z
LAST-MODIFIED:20250618T101050Z
UID:6354-1753538400-1753542000@www.vilniusliterature.lt
SUMMARY:Ekskursija apie prof. Vincą Krėvę-Mickevičių
DESCRIPTION:
URL:https://www.vilniusliterature.lt/renginys/ekskursija-apie-prof-vinca-kreve-mickeviciu-43/
END:VEVENT
BEGIN:VEVENT
DTSTART;TZID=Europe/Vilnius:20250726T120000
DTEND;TZID=Europe/Vilnius:20250726T130000
DTSTAMP:20260421T224902
CREATED:20250618T094424Z
LAST-MODIFIED:20250618T094424Z
UID:6284-1753531200-1753534800@www.vilniusliterature.lt
SUMMARY:Ekskursija apie prof. Vincą Mykolaitį-Putiną
DESCRIPTION:
URL:https://www.vilniusliterature.lt/renginys/ekskursija-apie-prof-vinca-mykolaiti-putina-38/
END:VEVENT
BEGIN:VEVENT
DTSTART;TZID=Europe/Vilnius:20250725T163000
DTEND;TZID=Europe/Vilnius:20250725T173000
DTSTAMP:20260421T224902
CREATED:20250618T094328Z
LAST-MODIFIED:20250618T094328Z
UID:6281-1753461000-1753464600@www.vilniusliterature.lt
SUMMARY:Ekskursija apie prof. Vincą Mykolaitį-Putiną
DESCRIPTION:
URL:https://www.vilniusliterature.lt/renginys/ekskursija-apie-prof-vinca-mykolaiti-putina-37/
END:VEVENT
BEGIN:VEVENT
DTSTART;TZID=Europe/Vilnius:20250725T143000
DTEND;TZID=Europe/Vilnius:20250725T153000
DTSTAMP:20260421T224902
CREATED:20250618T101000Z
LAST-MODIFIED:20250618T101000Z
UID:6351-1753453800-1753457400@www.vilniusliterature.lt
SUMMARY:Ekskursija apie prof. Vincą Krėvę-Mickevičių
DESCRIPTION:
URL:https://www.vilniusliterature.lt/renginys/ekskursija-apie-prof-vinca-kreve-mickeviciu-42/
END:VEVENT
BEGIN:VEVENT
DTSTART;TZID=Europe/Vilnius:20250724T163000
DTEND;TZID=Europe/Vilnius:20250724T173000
DTSTAMP:20260421T224902
CREATED:20250618T100852Z
LAST-MODIFIED:20250618T100852Z
UID:6348-1753374600-1753378200@www.vilniusliterature.lt
SUMMARY:Ekskursija apie prof. Vincą Krėvę-Mickevičių
DESCRIPTION:
URL:https://www.vilniusliterature.lt/renginys/ekskursija-apie-prof-vinca-kreve-mickeviciu-41/
END:VEVENT
BEGIN:VEVENT
DTSTART;TZID=Europe/Vilnius:20250724T143000
DTEND;TZID=Europe/Vilnius:20250724T153000
DTSTAMP:20260421T224902
CREATED:20250618T094222Z
LAST-MODIFIED:20250618T094222Z
UID:6278-1753367400-1753371000@www.vilniusliterature.lt
SUMMARY:Ekskursija apie prof. Vincą Mykolaitį-Putiną
DESCRIPTION:
URL:https://www.vilniusliterature.lt/renginys/ekskursija-apie-prof-vinca-mykolaiti-putina-36/
END:VEVENT
BEGIN:VEVENT
DTSTART;TZID=Europe/Vilnius:20250723T163000
DTEND;TZID=Europe/Vilnius:20250723T173000
DTSTAMP:20260421T224902
CREATED:20250618T094121Z
LAST-MODIFIED:20250618T094121Z
UID:6275-1753288200-1753291800@www.vilniusliterature.lt
SUMMARY:Ekskursija apie prof. Vincą Mykolaitį-Putiną
DESCRIPTION:
URL:https://www.vilniusliterature.lt/renginys/ekskursija-apie-prof-vinca-mykolaiti-putina-35/
END:VEVENT
BEGIN:VEVENT
DTSTART;TZID=Europe/Vilnius:20250723T143000
DTEND;TZID=Europe/Vilnius:20250723T153000
DTSTAMP:20260421T224902
CREATED:20250618T100758Z
LAST-MODIFIED:20250618T100758Z
UID:6345-1753281000-1753284600@www.vilniusliterature.lt
SUMMARY:Ekskursija apie prof. Vincą Krėvę-Mickevičių
DESCRIPTION:
URL:https://www.vilniusliterature.lt/renginys/ekskursija-apie-prof-vinca-kreve-mickeviciu-40/
END:VEVENT
BEGIN:VEVENT
DTSTART;TZID=Europe/Vilnius:20250722T180000
DTEND;TZID=Europe/Vilnius:20250722T193000
DTSTAMP:20260421T224902
CREATED:20250708T071656Z
LAST-MODIFIED:20250714T082122Z
UID:6840-1753207200-1753212600@www.vilniusliterature.lt
SUMMARY:Patirtinis vakaras Vinco Mykolaičio-Putino svetainėje
DESCRIPTION:Ne paslaptis\, kad Vincas Mykolaitis-Putinas buvo tikras melomanas\, tad kviečiame praleisti vakarą klausant klasikinės muzikos autentiškoje aplinkoje. Šį kartą dėmesį sutelksime ne tik į rašytojo kūrybą\, bet ir į jo didžiulę aistrą muzikai\, ypač Ludwigo van Beethoveno kūriniams. Profesorius be galo mėgo šį kompozitorių\, o jo vinilinių plokštelių kolekcijoje Beethoveno įrašų itin gausu. Patirtinio vakaro metu ne tik klausysimės profesoriaus sukauptos kolekcijos įrašų\, bet ir pasinersime į V. Mykolaičio-Putino literatūros pasaulį – klausysimės aktoriaus Mindaugo Ancevičiaus skaitomų poeto eilėraščių. Visa tai lydės jaukūs pokalbiai prie arbatos puodelio su vaišėmis.
URL:https://www.vilniusliterature.lt/renginys/patirtinis-vakaras-vinco-mykolaicio-putino-svetaineje-2/
END:VEVENT
BEGIN:VEVENT
DTSTART;TZID=Europe/Vilnius:20250722T163000
DTEND;TZID=Europe/Vilnius:20250722T173000
DTSTAMP:20260421T224902
CREATED:20250618T100655Z
LAST-MODIFIED:20250618T100655Z
UID:6341-1753201800-1753205400@www.vilniusliterature.lt
SUMMARY:Ekskursija apie prof. Vincą Krėvę-Mickevičių
DESCRIPTION:
URL:https://www.vilniusliterature.lt/renginys/ekskursija-apie-prof-vinca-kreve-mickeviciu-39/
END:VEVENT
BEGIN:VEVENT
DTSTART;TZID=Europe/Vilnius:20250722T143000
DTEND;TZID=Europe/Vilnius:20250722T153000
DTSTAMP:20260421T224902
CREATED:20250618T094030Z
LAST-MODIFIED:20250618T094030Z
UID:6272-1753194600-1753198200@www.vilniusliterature.lt
SUMMARY:Ekskursija apie prof. Vincą Mykolaitį-Putiną
DESCRIPTION:
URL:https://www.vilniusliterature.lt/renginys/ekskursija-apie-prof-vinca-mykolaiti-putina-34/
END:VEVENT
BEGIN:VEVENT
DTSTART;TZID=Europe/Vilnius:20250719T140000
DTEND;TZID=Europe/Vilnius:20250719T150000
DTSTAMP:20260421T224902
CREATED:20250618T100601Z
LAST-MODIFIED:20250618T100601Z
UID:6338-1752933600-1752937200@www.vilniusliterature.lt
SUMMARY:Ekskursija apie prof. Vincą Krėvę-Mickevičių
DESCRIPTION:
URL:https://www.vilniusliterature.lt/renginys/ekskursija-apie-prof-vinca-kreve-mickeviciu-38/
END:VEVENT
END:VCALENDAR