BEGIN:VCALENDAR
VERSION:2.0
PRODID:-//Vilnius literatūros miestas - ECPv6.15.13//NONSGML v1.0//EN
CALSCALE:GREGORIAN
METHOD:PUBLISH
X-WR-CALNAME:Vilnius literatūros miestas
X-ORIGINAL-URL:https://www.vilniusliterature.lt
X-WR-CALDESC:Vilnius literatūros miestas renginiai
REFRESH-INTERVAL;VALUE=DURATION:PT1H
X-Robots-Tag:noindex
X-PUBLISHED-TTL:PT1H
BEGIN:VTIMEZONE
TZID:Europe/Vilnius
BEGIN:DAYLIGHT
TZOFFSETFROM:+0200
TZOFFSETTO:+0300
TZNAME:EEST
DTSTART:20240331T010000
END:DAYLIGHT
BEGIN:STANDARD
TZOFFSETFROM:+0300
TZOFFSETTO:+0200
TZNAME:EET
DTSTART:20241027T010000
END:STANDARD
BEGIN:DAYLIGHT
TZOFFSETFROM:+0200
TZOFFSETTO:+0300
TZNAME:EEST
DTSTART:20250330T010000
END:DAYLIGHT
BEGIN:STANDARD
TZOFFSETFROM:+0300
TZOFFSETTO:+0200
TZNAME:EET
DTSTART:20251026T010000
END:STANDARD
BEGIN:DAYLIGHT
TZOFFSETFROM:+0200
TZOFFSETTO:+0300
TZNAME:EEST
DTSTART:20260329T010000
END:DAYLIGHT
BEGIN:STANDARD
TZOFFSETFROM:+0300
TZOFFSETTO:+0200
TZNAME:EET
DTSTART:20261025T010000
END:STANDARD
END:VTIMEZONE
BEGIN:VEVENT
DTSTART;TZID=Europe/Vilnius:20250905T163000
DTEND;TZID=Europe/Vilnius:20250905T173000
DTSTAMP:20260421T175422
CREATED:20250827T125609Z
LAST-MODIFIED:20250827T125609Z
UID:7879-1757089800-1757093400@www.vilniusliterature.lt
SUMMARY:Ekskursija apie prof. Vincą Mykolaitį-Putiną
DESCRIPTION:
URL:https://www.vilniusliterature.lt/renginys/ekskursija-apie-prof-vinca-mykolaiti-putina-68/
END:VEVENT
BEGIN:VEVENT
DTSTART;TZID=Europe/Vilnius:20250905T143000
DTEND;TZID=Europe/Vilnius:20250905T153000
DTSTAMP:20260421T175422
CREATED:20250827T124256Z
LAST-MODIFIED:20250827T124256Z
UID:7836-1757082600-1757086200@www.vilniusliterature.lt
SUMMARY:Ekskursija apie prof. Vincą Krėvę-Mickevičių
DESCRIPTION:
URL:https://www.vilniusliterature.lt/renginys/ekskursija-apie-prof-vinca-kreve-mickeviciu-75/
END:VEVENT
BEGIN:VEVENT
DTSTART;TZID=Europe/Vilnius:20250903T163000
DTEND;TZID=Europe/Vilnius:20250903T173000
DTSTAMP:20260421T175422
CREATED:20250827T124936Z
LAST-MODIFIED:20250827T124936Z
UID:7858-1756917000-1756920600@www.vilniusliterature.lt
SUMMARY:Ekskursija apie prof. Vincą Mykolaitį-Putiną
DESCRIPTION:
URL:https://www.vilniusliterature.lt/renginys/ekskursija-apie-prof-vinca-mykolaiti-putina-61/
END:VEVENT
BEGIN:VEVENT
DTSTART;TZID=Europe/Vilnius:20250903T143000
DTEND;TZID=Europe/Vilnius:20250903T153000
DTSTAMP:20260421T175422
CREATED:20250827T121945Z
LAST-MODIFIED:20250827T121945Z
UID:7823-1756909800-1756913400@www.vilniusliterature.lt
SUMMARY:Ekskursija apie prof. Vincą Krėvę-Mickevičių
DESCRIPTION:
URL:https://www.vilniusliterature.lt/renginys/ekskursija-apie-prof-vinca-kreve-mickeviciu-71/
END:VEVENT
BEGIN:VEVENT
DTSTART;TZID=Europe/Vilnius:20250902T180000
DTEND;TZID=Europe/Vilnius:20250902T190000
DTSTAMP:20260421T175422
CREATED:20250827T130934Z
LAST-MODIFIED:20250827T130934Z
UID:7918-1756836000-1756839600@www.vilniusliterature.lt
SUMMARY:Patirtinis vakaras Vinco Mykolaičio-Putino svetainėje
DESCRIPTION:
URL:https://www.vilniusliterature.lt/renginys/patirtinis-vakaras-vinco-mykolaicio-putino-svetaineje-8/
END:VEVENT
BEGIN:VEVENT
DTSTART;TZID=Europe/Vilnius:20250902T163000
DTEND;TZID=Europe/Vilnius:20250902T173000
DTSTAMP:20260421T175422
CREATED:20250827T121313Z
LAST-MODIFIED:20250827T121313Z
UID:7808-1756830600-1756834200@www.vilniusliterature.lt
SUMMARY:Ekskursija apie prof. Vincą Krėvę-Mickevičių
DESCRIPTION:
URL:https://www.vilniusliterature.lt/renginys/ekskursija-apie-prof-vinca-kreve-mickeviciu-66/
END:VEVENT
BEGIN:VEVENT
DTSTART;TZID=Europe/Vilnius:20250830T140000
DTEND;TZID=Europe/Vilnius:20250830T150000
DTSTAMP:20260421T175422
CREATED:20250729T090642Z
LAST-MODIFIED:20250729T090642Z
UID:7250-1756562400-1756566000@www.vilniusliterature.lt
SUMMARY:Ekskursija apie prof. Vincą Krėvę-Mickevičių
DESCRIPTION:
URL:https://www.vilniusliterature.lt/renginys/ekskursija-apie-prof-vinca-kreve-mickeviciu-65/
END:VEVENT
BEGIN:VEVENT
DTSTART;TZID=Europe/Vilnius:20250830T120000
DTEND;TZID=Europe/Vilnius:20250830T130000
DTSTAMP:20260421T175422
CREATED:20250729T084237Z
LAST-MODIFIED:20250729T084237Z
UID:7192-1756555200-1756558800@www.vilniusliterature.lt
SUMMARY:Ekskursija apie prof. Vincą Mykolaitį-Putiną
DESCRIPTION:
URL:https://www.vilniusliterature.lt/renginys/ekskursija-apie-prof-vinca-mykolaiti-putina-60/
END:VEVENT
BEGIN:VEVENT
DTSTART;TZID=Europe/Vilnius:20250829T163000
DTEND;TZID=Europe/Vilnius:20250829T173000
DTSTAMP:20260421T175422
CREATED:20250729T083835Z
LAST-MODIFIED:20250729T083835Z
UID:7180-1756485000-1756488600@www.vilniusliterature.lt
SUMMARY:Ekskursija apie prof. Vincą Mykolaitį-Putiną
DESCRIPTION:
URL:https://www.vilniusliterature.lt/renginys/ekskursija-apie-prof-vinca-mykolaiti-putina-56/
END:VEVENT
BEGIN:VEVENT
DTSTART;TZID=Europe/Vilnius:20250829T143000
DTEND;TZID=Europe/Vilnius:20250829T153000
DTSTAMP:20260421T175422
CREATED:20250729T090056Z
LAST-MODIFIED:20250729T090056Z
UID:7235-1756477800-1756481400@www.vilniusliterature.lt
SUMMARY:Ekskursija apie prof. Vincą Krėvę-Mickevičių
DESCRIPTION:
URL:https://www.vilniusliterature.lt/renginys/ekskursija-apie-prof-vinca-kreve-mickeviciu-60/
END:VEVENT
BEGIN:VEVENT
DTSTART;TZID=Europe/Vilnius:20250828T163000
DTEND;TZID=Europe/Vilnius:20250828T173000
DTSTAMP:20260421T175422
CREATED:20250729T085804Z
LAST-MODIFIED:20250729T085804Z
UID:7226-1756398600-1756402200@www.vilniusliterature.lt
SUMMARY:Ekskursija apie prof. Vincą Krėvę-Mickevičių
DESCRIPTION:
URL:https://www.vilniusliterature.lt/renginys/ekskursija-apie-prof-vinca-kreve-mickeviciu-57/
END:VEVENT
BEGIN:VEVENT
DTSTART;TZID=Europe/Vilnius:20250828T143000
DTEND;TZID=Europe/Vilnius:20250828T153000
DTSTAMP:20260421T175422
CREATED:20250729T083534Z
LAST-MODIFIED:20250729T083534Z
UID:7171-1756391400-1756395000@www.vilniusliterature.lt
SUMMARY:Ekskursija apie prof. Vincą Mykolaitį-Putiną
DESCRIPTION:
URL:https://www.vilniusliterature.lt/renginys/ekskursija-apie-prof-vinca-mykolaiti-putina-53/
END:VEVENT
BEGIN:VEVENT
DTSTART;TZID=Europe/Vilnius:20250827T163000
DTEND;TZID=Europe/Vilnius:20250827T173000
DTSTAMP:20260421T175422
CREATED:20250729T083133Z
LAST-MODIFIED:20250729T083133Z
UID:7159-1756312200-1756315800@www.vilniusliterature.lt
SUMMARY:Ekskursija apie prof. Vincą Mykolaitį-Putiną
DESCRIPTION:
URL:https://www.vilniusliterature.lt/renginys/ekskursija-apie-prof-vinca-mykolaiti-putina-49/
END:VEVENT
BEGIN:VEVENT
DTSTART;TZID=Europe/Vilnius:20250827T143000
DTEND;TZID=Europe/Vilnius:20250827T153000
DTSTAMP:20260421T175422
CREATED:20250729T085416Z
LAST-MODIFIED:20250729T085416Z
UID:7217-1756305000-1756308600@www.vilniusliterature.lt
SUMMARY:Ekskursija apie prof. Vincą Krėvę-Mickevičių
DESCRIPTION:
URL:https://www.vilniusliterature.lt/renginys/ekskursija-apie-prof-vinca-kreve-mickeviciu-54/
END:VEVENT
BEGIN:VEVENT
DTSTART;TZID=Europe/Vilnius:20250826T180000
DTEND;TZID=Europe/Vilnius:20250826T193000
DTSTAMP:20260421T175422
CREATED:20250729T100229Z
LAST-MODIFIED:20250813T123607Z
UID:7267-1756231200-1756236600@www.vilniusliterature.lt
SUMMARY:Patirtinis vakaras Vinco Mykolaičio-Putino svetainėje
DESCRIPTION:
URL:https://www.vilniusliterature.lt/renginys/patirtinis-vakaras-vinco-mykolaicio-putino-svetaineje-7/
END:VEVENT
BEGIN:VEVENT
DTSTART;TZID=Europe/Vilnius:20250826T163000
DTEND;TZID=Europe/Vilnius:20250826T173000
DTSTAMP:20260421T175422
CREATED:20250729T084946Z
LAST-MODIFIED:20250729T084946Z
UID:7204-1756225800-1756229400@www.vilniusliterature.lt
SUMMARY:Ekskursija apie prof. Vincą Krėvę-Mickevičių
DESCRIPTION:
URL:https://www.vilniusliterature.lt/renginys/ekskursija-apie-prof-vinca-kreve-mickeviciu-50/
END:VEVENT
BEGIN:VEVENT
DTSTART;TZID=Europe/Vilnius:20250826T143000
DTEND;TZID=Europe/Vilnius:20250826T153000
DTSTAMP:20260421T175422
CREATED:20250729T082742Z
LAST-MODIFIED:20250729T082742Z
UID:7147-1756218600-1756222200@www.vilniusliterature.lt
SUMMARY:Ekskursija apie prof. Vincą Mykolaitį-Putiną
DESCRIPTION:
URL:https://www.vilniusliterature.lt/renginys/ekskursija-apie-prof-vinca-mykolaiti-putina-45/
END:VEVENT
BEGIN:VEVENT
DTSTART;TZID=Europe/Vilnius:20250823T140000
DTEND;TZID=Europe/Vilnius:20250823T150000
DTSTAMP:20260421T175422
CREATED:20250729T090532Z
LAST-MODIFIED:20250729T090532Z
UID:7247-1755957600-1755961200@www.vilniusliterature.lt
SUMMARY:Ekskursija apie prof. Vincą Krėvę-Mickevičių
DESCRIPTION:
URL:https://www.vilniusliterature.lt/renginys/ekskursija-apie-prof-vinca-kreve-mickeviciu-64/
END:VEVENT
BEGIN:VEVENT
DTSTART;TZID=Europe/Vilnius:20250823T120000
DTEND;TZID=Europe/Vilnius:20250823T130000
DTSTAMP:20260421T175422
CREATED:20250729T084145Z
LAST-MODIFIED:20250729T084145Z
UID:7189-1755950400-1755954000@www.vilniusliterature.lt
SUMMARY:Ekskursija apie prof. Vincą Mykolaitį-Putiną
DESCRIPTION:
URL:https://www.vilniusliterature.lt/renginys/ekskursija-apie-prof-vinca-mykolaiti-putina-59/
END:VEVENT
BEGIN:VEVENT
DTSTART;TZID=Europe/Vilnius:20250822T163000
DTEND;TZID=Europe/Vilnius:20250822T173000
DTSTAMP:20260421T175422
CREATED:20250729T083737Z
LAST-MODIFIED:20250729T083737Z
UID:7177-1755880200-1755883800@www.vilniusliterature.lt
SUMMARY:Ekskursija apie prof. Vincą Mykolaitį-Putiną
DESCRIPTION:
URL:https://www.vilniusliterature.lt/renginys/ekskursija-apie-prof-vinca-mykolaiti-putina-55/
END:VEVENT
BEGIN:VEVENT
DTSTART;TZID=Europe/Vilnius:20250822T143000
DTEND;TZID=Europe/Vilnius:20250822T153000
DTSTAMP:20260421T175422
CREATED:20250729T090000Z
LAST-MODIFIED:20250729T090000Z
UID:7232-1755873000-1755876600@www.vilniusliterature.lt
SUMMARY:Ekskursija apie prof. Vincą Krėvę-Mickevičių
DESCRIPTION:
URL:https://www.vilniusliterature.lt/renginys/ekskursija-apie-prof-vinca-kreve-mickeviciu-59/
END:VEVENT
BEGIN:VEVENT
DTSTART;TZID=Europe/Vilnius:20250821T163000
DTEND;TZID=Europe/Vilnius:20250821T173000
DTSTAMP:20260421T175422
CREATED:20250729T085712Z
LAST-MODIFIED:20250729T085712Z
UID:7223-1755793800-1755797400@www.vilniusliterature.lt
SUMMARY:Ekskursija apie prof. Vincą Krėvę-Mickevičių
DESCRIPTION:
URL:https://www.vilniusliterature.lt/renginys/ekskursija-apie-prof-vinca-kreve-mickeviciu-56/
END:VEVENT
BEGIN:VEVENT
DTSTART;TZID=Europe/Vilnius:20250821T143000
DTEND;TZID=Europe/Vilnius:20250821T153000
DTSTAMP:20260421T175422
CREATED:20250729T083438Z
LAST-MODIFIED:20250729T083438Z
UID:7168-1755786600-1755790200@www.vilniusliterature.lt
SUMMARY:Ekskursija apie prof. Vincą Mykolaitį-Putiną
DESCRIPTION:
URL:https://www.vilniusliterature.lt/renginys/ekskursija-apie-prof-vinca-mykolaiti-putina-52/
END:VEVENT
BEGIN:VEVENT
DTSTART;TZID=Europe/Vilnius:20250820T163000
DTEND;TZID=Europe/Vilnius:20250820T173000
DTSTAMP:20260421T175422
CREATED:20250729T083042Z
LAST-MODIFIED:20250729T083042Z
UID:7156-1755707400-1755711000@www.vilniusliterature.lt
SUMMARY:Ekskursija apie prof. Vincą Mykolaitį-Putiną
DESCRIPTION:
URL:https://www.vilniusliterature.lt/renginys/ekskursija-apie-prof-vinca-mykolaiti-putina-48/
END:VEVENT
BEGIN:VEVENT
DTSTART;TZID=Europe/Vilnius:20250820T143000
DTEND;TZID=Europe/Vilnius:20250820T153000
DTSTAMP:20260421T175422
CREATED:20250729T085306Z
LAST-MODIFIED:20250729T085306Z
UID:7214-1755700200-1755703800@www.vilniusliterature.lt
SUMMARY:Ekskursija apie prof. Vincą Krėvę-Mickevičių
DESCRIPTION:
URL:https://www.vilniusliterature.lt/renginys/ekskursija-apie-prof-vinca-kreve-mickeviciu-53/
END:VEVENT
BEGIN:VEVENT
DTSTART;TZID=Europe/Vilnius:20250819T180000
DTEND;TZID=Europe/Vilnius:20250819T193000
DTSTAMP:20260421T175422
CREATED:20250729T100133Z
LAST-MODIFIED:20250819T085522Z
UID:7264-1755626400-1755631800@www.vilniusliterature.lt
SUMMARY:Patirtinis vakaras Vinco Mykolaičio-Putino svetainėje
DESCRIPTION:
URL:https://www.vilniusliterature.lt/renginys/patirtinis-vakaras-vinco-mykolaicio-putino-svetaineje-6/
END:VEVENT
BEGIN:VEVENT
DTSTART;TZID=Europe/Vilnius:20250819T163000
DTEND;TZID=Europe/Vilnius:20250819T173000
DTSTAMP:20260421T175422
CREATED:20250729T084842Z
LAST-MODIFIED:20250729T084842Z
UID:7201-1755621000-1755624600@www.vilniusliterature.lt
SUMMARY:Ekskursija apie prof. Vincą Krėvę-Mickevičių
DESCRIPTION:
URL:https://www.vilniusliterature.lt/renginys/ekskursija-apie-prof-vinca-kreve-mickeviciu-49/
END:VEVENT
BEGIN:VEVENT
DTSTART;TZID=Europe/Vilnius:20250819T143000
DTEND;TZID=Europe/Vilnius:20250819T153000
DTSTAMP:20260421T175422
CREATED:20250729T082640Z
LAST-MODIFIED:20250729T082640Z
UID:7144-1755613800-1755617400@www.vilniusliterature.lt
SUMMARY:Ekskursija apie prof. Vincą Mykolaitį-Putiną
DESCRIPTION:
URL:https://www.vilniusliterature.lt/renginys/ekskursija-apie-prof-vinca-mykolaiti-putina-44/
END:VEVENT
BEGIN:VEVENT
DTSTART;TZID=Europe/Vilnius:20250816T140000
DTEND;TZID=Europe/Vilnius:20250816T150000
DTSTAMP:20260421T175422
CREATED:20250729T090424Z
LAST-MODIFIED:20250729T090424Z
UID:7244-1755352800-1755356400@www.vilniusliterature.lt
SUMMARY:Ekskursija apie prof. Vincą Krėvę-Mickevičių
DESCRIPTION:
URL:https://www.vilniusliterature.lt/renginys/ekskursija-apie-prof-vinca-kreve-mickeviciu-63/
END:VEVENT
BEGIN:VEVENT
DTSTART;TZID=Europe/Vilnius:20250816T120000
DTEND;TZID=Europe/Vilnius:20250816T130000
DTSTAMP:20260421T175422
CREATED:20250729T084033Z
LAST-MODIFIED:20250729T084033Z
UID:7186-1755345600-1755349200@www.vilniusliterature.lt
SUMMARY:Ekskursija apie prof. Vincą Mykolaitį-Putiną
DESCRIPTION:
URL:https://www.vilniusliterature.lt/renginys/ekskursija-apie-prof-vinca-mykolaiti-putina-58/
END:VEVENT
END:VCALENDAR