BEGIN:VCALENDAR
VERSION:2.0
PRODID:-//Vilnius literatūros miestas - ECPv6.15.13//NONSGML v1.0//EN
CALSCALE:GREGORIAN
METHOD:PUBLISH
X-WR-CALNAME:Vilnius literatūros miestas
X-ORIGINAL-URL:https://www.vilniusliterature.lt
X-WR-CALDESC:Vilnius literatūros miestas renginiai
REFRESH-INTERVAL;VALUE=DURATION:PT1H
X-Robots-Tag:noindex
X-PUBLISHED-TTL:PT1H
BEGIN:VTIMEZONE
TZID:Europe/Vilnius
BEGIN:DAYLIGHT
TZOFFSETFROM:+0200
TZOFFSETTO:+0300
TZNAME:EEST
DTSTART:20240331T010000
END:DAYLIGHT
BEGIN:STANDARD
TZOFFSETFROM:+0300
TZOFFSETTO:+0200
TZNAME:EET
DTSTART:20241027T010000
END:STANDARD
BEGIN:DAYLIGHT
TZOFFSETFROM:+0200
TZOFFSETTO:+0300
TZNAME:EEST
DTSTART:20250330T010000
END:DAYLIGHT
BEGIN:STANDARD
TZOFFSETFROM:+0300
TZOFFSETTO:+0200
TZNAME:EET
DTSTART:20251026T010000
END:STANDARD
BEGIN:DAYLIGHT
TZOFFSETFROM:+0200
TZOFFSETTO:+0300
TZNAME:EEST
DTSTART:20260329T010000
END:DAYLIGHT
BEGIN:STANDARD
TZOFFSETFROM:+0300
TZOFFSETTO:+0200
TZNAME:EET
DTSTART:20261025T010000
END:STANDARD
END:VTIMEZONE
BEGIN:VEVENT
DTSTART;TZID=Europe/Vilnius:20251114T143000
DTEND;TZID=Europe/Vilnius:20251114T153000
DTSTAMP:20260422T040646
CREATED:20251001T124127Z
LAST-MODIFIED:20251001T124127Z
UID:8866-1763130600-1763134200@www.vilniusliterature.lt
SUMMARY:Ekskursija apie prof. Vincą Mykolaitį-Putiną
DESCRIPTION:
URL:https://www.vilniusliterature.lt/renginys/ekskursija-apie-prof-vinca-mykolaiti-putina-101/
END:VEVENT
BEGIN:VEVENT
DTSTART;TZID=Europe/Vilnius:20251114T160000
DTEND;TZID=Europe/Vilnius:20251114T163000
DTSTAMP:20260422T040646
CREATED:20251103T091202Z
LAST-MODIFIED:20251103T091202Z
UID:10147-1763136000-1763137800@www.vilniusliterature.lt
SUMMARY:Lauko ekskursija „Pamėnkalnio 34: vilos metraštis“
DESCRIPTION:Šios vilos\, pastatytos ant kalvos\, XV amžiuje vadintos Moliakalniu\, adresas nuo XX a. pradžios keitėsi net keletą kartų: Uosto g. arba ul. Portowa 22\, Cvirkos g. 24\, dabar – Pamėnkalnio g. 34. Keitėsi ne tik adresai\, bet ir vilos gyventojai\, jų istorijos\, likimai. Kai kurios istorijos buvo pamirštos arba užfiksuotos tik archyvuose\, kitos – įrašytos ir šiandienos gyventojų atmintyje\, ir viloje likusiuose daiktuose\, eksponatuose\, gyvuose prisiminimuose.
URL:https://www.vilniusliterature.lt/renginys/lauko-ekskursija-pamenkalnio-34-vilos-metrastis-19/
END:VEVENT
BEGIN:VEVENT
DTSTART;TZID=Europe/Vilnius:20251114T163000
DTEND;TZID=Europe/Vilnius:20251114T173000
DTSTAMP:20260422T040646
CREATED:20251001T122525Z
LAST-MODIFIED:20251001T122525Z
UID:8818-1763137800-1763141400@www.vilniusliterature.lt
SUMMARY:Apžvalginė ekskursija po Profesorių namą
DESCRIPTION:
URL:https://www.vilniusliterature.lt/renginys/apzvalgine-ekskursija-po-profesoriu-nama-54/
END:VEVENT
END:VCALENDAR