BEGIN:VCALENDAR
VERSION:2.0
PRODID:-//Vilnius literatūros miestas - ECPv6.15.13//NONSGML v1.0//EN
CALSCALE:GREGORIAN
METHOD:PUBLISH
X-WR-CALNAME:Vilnius literatūros miestas
X-ORIGINAL-URL:https://www.vilniusliterature.lt
X-WR-CALDESC:Vilnius literatūros miestas renginiai
REFRESH-INTERVAL;VALUE=DURATION:PT1H
X-Robots-Tag:noindex
X-PUBLISHED-TTL:PT1H
BEGIN:VTIMEZONE
TZID:Europe/Vilnius
BEGIN:DAYLIGHT
TZOFFSETFROM:+0200
TZOFFSETTO:+0300
TZNAME:EEST
DTSTART:20240331T010000
END:DAYLIGHT
BEGIN:STANDARD
TZOFFSETFROM:+0300
TZOFFSETTO:+0200
TZNAME:EET
DTSTART:20241027T010000
END:STANDARD
BEGIN:DAYLIGHT
TZOFFSETFROM:+0200
TZOFFSETTO:+0300
TZNAME:EEST
DTSTART:20250330T010000
END:DAYLIGHT
BEGIN:STANDARD
TZOFFSETFROM:+0300
TZOFFSETTO:+0200
TZNAME:EET
DTSTART:20251026T010000
END:STANDARD
BEGIN:DAYLIGHT
TZOFFSETFROM:+0200
TZOFFSETTO:+0300
TZNAME:EEST
DTSTART:20260329T010000
END:DAYLIGHT
BEGIN:STANDARD
TZOFFSETFROM:+0300
TZOFFSETTO:+0200
TZNAME:EET
DTSTART:20261025T010000
END:STANDARD
END:VTIMEZONE
BEGIN:VEVENT
DTSTART;TZID=Europe/Vilnius:20251004T120000
DTEND;TZID=Europe/Vilnius:20251004T130000
DTSTAMP:20260425T031754
CREATED:20250918T074453Z
LAST-MODIFIED:20250923T105723Z
UID:8465-1759579200-1759582800@www.vilniusliterature.lt
SUMMARY:Ekskursija apie prof. Vincą Mykolaitį-Putiną
DESCRIPTION:
URL:https://www.vilniusliterature.lt/renginys/ekskursija-apie-prof-vinca-mykolaiti-putina-88/
END:VEVENT
BEGIN:VEVENT
DTSTART;TZID=Europe/Vilnius:20251004T133000
DTEND;TZID=Europe/Vilnius:20251004T143000
DTSTAMP:20260425T031754
CREATED:20250918T080623Z
LAST-MODIFIED:20250923T105758Z
UID:8528-1759584600-1759588200@www.vilniusliterature.lt
SUMMARY:Apžvalginė ekskursija po Profesorių namą
DESCRIPTION:
URL:https://www.vilniusliterature.lt/renginys/apzvalgine-ekskursija-po-profesoriu-nama-37/
END:VEVENT
END:VCALENDAR