BEGIN:VCALENDAR
VERSION:2.0
PRODID:-//Vilnius literatūros miestas - ECPv6.15.13//NONSGML v1.0//EN
CALSCALE:GREGORIAN
METHOD:PUBLISH
X-ORIGINAL-URL:https://www.vilniusliterature.lt
X-WR-CALDESC:Vilnius literatūros miestas renginiai
REFRESH-INTERVAL;VALUE=DURATION:PT1H
X-Robots-Tag:noindex
X-PUBLISHED-TTL:PT1H
BEGIN:VTIMEZONE
TZID:Europe/Vilnius
BEGIN:DAYLIGHT
TZOFFSETFROM:+0200
TZOFFSETTO:+0300
TZNAME:EEST
DTSTART:20240331T010000
END:DAYLIGHT
BEGIN:STANDARD
TZOFFSETFROM:+0300
TZOFFSETTO:+0200
TZNAME:EET
DTSTART:20241027T010000
END:STANDARD
BEGIN:DAYLIGHT
TZOFFSETFROM:+0200
TZOFFSETTO:+0300
TZNAME:EEST
DTSTART:20250330T010000
END:DAYLIGHT
BEGIN:STANDARD
TZOFFSETFROM:+0300
TZOFFSETTO:+0200
TZNAME:EET
DTSTART:20251026T010000
END:STANDARD
BEGIN:DAYLIGHT
TZOFFSETFROM:+0200
TZOFFSETTO:+0300
TZNAME:EEST
DTSTART:20260329T010000
END:DAYLIGHT
BEGIN:STANDARD
TZOFFSETFROM:+0300
TZOFFSETTO:+0200
TZNAME:EET
DTSTART:20261025T010000
END:STANDARD
END:VTIMEZONE
BEGIN:VEVENT
DTSTART;TZID=Europe/Vilnius:20250902T163000
DTEND;TZID=Europe/Vilnius:20250902T173000
DTSTAMP:20260425T043203
CREATED:20250827T121313Z
LAST-MODIFIED:20250827T121313Z
UID:7808-1756830600-1756834200@www.vilniusliterature.lt
SUMMARY:Ekskursija apie prof. Vincą Krėvę-Mickevičių
DESCRIPTION:
URL:https://www.vilniusliterature.lt/renginys/ekskursija-apie-prof-vinca-kreve-mickeviciu-66/
END:VEVENT
BEGIN:VEVENT
DTSTART;TZID=Europe/Vilnius:20250902T180000
DTEND;TZID=Europe/Vilnius:20250902T190000
DTSTAMP:20260425T043203
CREATED:20250827T130934Z
LAST-MODIFIED:20250827T130934Z
UID:7918-1756836000-1756839600@www.vilniusliterature.lt
SUMMARY:Patirtinis vakaras Vinco Mykolaičio-Putino svetainėje
DESCRIPTION:
URL:https://www.vilniusliterature.lt/renginys/patirtinis-vakaras-vinco-mykolaicio-putino-svetaineje-8/
END:VEVENT
END:VCALENDAR